BEGIN:VCALENDAR
VERSION:2.0
PRODID:-//MIL Madrid - ECPv6.15.20//NONSGML v1.0//EN
CALSCALE:GREGORIAN
METHOD:PUBLISH
X-ORIGINAL-URL:https://milmadrid.es
X-WR-CALDESC:Eventos para MIL Madrid
REFRESH-INTERVAL;VALUE=DURATION:PT1H
X-Robots-Tag:noindex
X-PUBLISHED-TTL:PT1H
BEGIN:VTIMEZONE
TZID:Europe/Madrid
BEGIN:DAYLIGHT
TZOFFSETFROM:+0100
TZOFFSETTO:+0200
TZNAME:CEST
DTSTART:20250330T010000
END:DAYLIGHT
BEGIN:STANDARD
TZOFFSETFROM:+0200
TZOFFSETTO:+0100
TZNAME:CET
DTSTART:20251026T010000
END:STANDARD
BEGIN:DAYLIGHT
TZOFFSETFROM:+0100
TZOFFSETTO:+0200
TZNAME:CEST
DTSTART:20260329T010000
END:DAYLIGHT
BEGIN:STANDARD
TZOFFSETFROM:+0200
TZOFFSETTO:+0100
TZNAME:CET
DTSTART:20261025T010000
END:STANDARD
BEGIN:DAYLIGHT
TZOFFSETFROM:+0100
TZOFFSETTO:+0200
TZNAME:CEST
DTSTART:20270328T010000
END:DAYLIGHT
BEGIN:STANDARD
TZOFFSETFROM:+0200
TZOFFSETTO:+0100
TZNAME:CET
DTSTART:20271031T010000
END:STANDARD
END:VTIMEZONE
BEGIN:VEVENT
DTSTART;TZID=Europe/Madrid:20260421T110000
DTEND;TZID=Europe/Madrid:20260421T123000
DTSTAMP:20260421T130351
CREATED:20260128T152348Z
LAST-MODIFIED:20260416T143503Z
UID:17249-1776769200-1776774600@milmadrid.es
SUMMARY:Programa Apptitud | Sexta sesión
DESCRIPTION:Cómo integrar con éxito la IA en la cultura empresarial				\n				\n					\n		\n					\n		\n				\n						\n					\n			\n						\n				\n									La adopción de la inteligencia artificial en las organizaciones no es solo una cuestión tecnológica\, sino también cultural. Integrarla con éxito implica transformar la forma de trabajar\, tomar decisiones y desarrollar talento dentro de la empresa. En esta sesión en el Madrid Innovation Lab\, exploraremos cómo incorporar la IA de manera estratégica\, ética y alineada con la realidad operativa de las organizaciones. Una jornada práctica orientada a ayudar a empresas y equipos a dar el paso desde la experimentación hacia una adopción estructurada y sostenible. Qué podrás aprenderDurante la sesión se abordarán los principales retos y oportunidades en la integración de la IA en la cultura empresarial: Cómo definir casos de uso relevantes y aplicables al negocio.Estrategias para integrar la IA en los flujos de trabajo reales.El impacto en roles\, habilidades y productividad de los equipos.Cómo gestionar barreras culturales como la resistencia al cambio o el miedo.Claves para establecer políticas y criterios éticos en el uso de la IA.Cómo medir resultados y avanzar hacia una adopción efectiva.La jornada incluirá además dinámicas prácticas y espacios de intercambio entre participantes\, culminando en la elaboración de un plan de acción adaptado a la realidad de cada organización. PonenteLa sesión estará impartida por Eva Trueba\, Directora de Desarrollo de Negocio en Skiller Academy\, entidad especializada en formación y acompañamiento en competencias digitales y adopción de inteligencia artificial en empresas. 								\n				\n					\n		\n					\n		\n				\n						\n					\n			\n						\n				\n									¡Apúntatelo en la agenda!								\n				\n				\n				\n									📅 Fecha: viernes\, 8 de mayo de 2026 ⏰ Horario: 10:30 – 13:30 h. 📍 Ubicación: Madrid Innovation Lab (MIL). C/ Bravo Murillo 37-39 								\n				\n					\n		\n					\n		\n				\n						\n					\n			\n						\n				\n									\n					\n						\n									Inscríbete aquí
URL:https://milmadrid.es/event/programa-apptitud-sexta-sesion/
LOCATION:Madrid Innovation Lab\, Calle Bravo Murillo 37-39\, Madrid\, 28080\, España
CATEGORIES:Programa Apptitud,Público General
ATTACH;FMTTYPE=image/png:https://milmadrid.es/wp-content/uploads/2026/01/Programa-APPTITUD-6.png
END:VEVENT
BEGIN:VEVENT
DTSTART;TZID=Europe/Madrid:20260422T110000
DTEND;TZID=Europe/Madrid:20260422T140000
DTSTAMP:20260421T130351
CREATED:20260413T140347Z
LAST-MODIFIED:20260413T140638Z
UID:19060-1776855600-1776866400@milmadrid.es
SUMMARY:DeepTech Talk
DESCRIPTION:Cómo integrar con éxito la IA en la cultura empresarial				\n				\n					\n		\n					\n		\n				\n						\n					\n			\n						\n				\n									La adopción de la inteligencia artificial en las organizaciones no es solo una cuestión tecnológica\, sino también cultural. Integrarla con éxito implica transformar la forma de trabajar\, tomar decisiones y desarrollar talento dentro de la empresa. En esta sesión en el Madrid Innovation Lab\, exploraremos cómo incorporar la IA de manera estratégica\, ética y alineada con la realidad operativa de las organizaciones. Una jornada práctica orientada a ayudar a empresas y equipos a dar el paso desde la experimentación hacia una adopción estructurada y sostenible. Qué podrás aprenderDurante la sesión se abordarán los principales retos y oportunidades en la integración de la IA en la cultura empresarial: Cómo definir casos de uso relevantes y aplicables al negocio.Estrategias para integrar la IA en los flujos de trabajo reales.El impacto en roles\, habilidades y productividad de los equipos.Cómo gestionar barreras culturales como la resistencia al cambio o el miedo.Claves para establecer políticas y criterios éticos en el uso de la IA.Cómo medir resultados y avanzar hacia una adopción efectiva.La jornada incluirá además dinámicas prácticas y espacios de intercambio entre participantes\, culminando en la elaboración de un plan de acción adaptado a la realidad de cada organización. PonenteLa sesión estará impartida por Eva Trueba\, Directora de Desarrollo de Negocio en Skiller Academy\, entidad especializada en formación y acompañamiento en competencias digitales y adopción de inteligencia artificial en empresas. 								\n				\n					\n		\n					\n		\n				\n						\n					\n			\n						\n				\n									¡Apúntatelo en la agenda!								\n				\n				\n				\n									📅 Fecha: viernes\, 8 de mayo de 2026 ⏰ Horario: 10:30 – 13:30 h. 📍 Ubicación: Madrid Innovation Lab (MIL). C/ Bravo Murillo 37-39 								\n				\n					\n		\n					\n		\n				\n						\n					\n			\n						\n				\n									\n					\n						\n									Inscríbete aquí
URL:https://milmadrid.es/event/deeptech-talk/
LOCATION:Madrid Innovation Lab\, Calle Bravo Murillo 37-39\, Madrid\, 28080\, España
CATEGORIES:Público Especializado
ATTACH;FMTTYPE=image/png:https://milmadrid.es/wp-content/uploads/2026/04/22042026.png
END:VEVENT
BEGIN:VEVENT
DTSTART;TZID=Europe/Madrid:20260423T130000
DTEND;TZID=Europe/Madrid:20260423T170000
DTSTAMP:20260421T130351
CREATED:20260313T104121Z
LAST-MODIFIED:20260327T171201Z
UID:18504-1776949200-1776963600@milmadrid.es
SUMMARY:The Pitch Battle: Quixote vs. Sancho | Communication workshop para emprendedores
DESCRIPTION:Cómo integrar con éxito la IA en la cultura empresarial				\n				\n					\n		\n					\n		\n				\n						\n					\n			\n						\n				\n									La adopción de la inteligencia artificial en las organizaciones no es solo una cuestión tecnológica\, sino también cultural. Integrarla con éxito implica transformar la forma de trabajar\, tomar decisiones y desarrollar talento dentro de la empresa. En esta sesión en el Madrid Innovation Lab\, exploraremos cómo incorporar la IA de manera estratégica\, ética y alineada con la realidad operativa de las organizaciones. Una jornada práctica orientada a ayudar a empresas y equipos a dar el paso desde la experimentación hacia una adopción estructurada y sostenible. Qué podrás aprenderDurante la sesión se abordarán los principales retos y oportunidades en la integración de la IA en la cultura empresarial: Cómo definir casos de uso relevantes y aplicables al negocio.Estrategias para integrar la IA en los flujos de trabajo reales.El impacto en roles\, habilidades y productividad de los equipos.Cómo gestionar barreras culturales como la resistencia al cambio o el miedo.Claves para establecer políticas y criterios éticos en el uso de la IA.Cómo medir resultados y avanzar hacia una adopción efectiva.La jornada incluirá además dinámicas prácticas y espacios de intercambio entre participantes\, culminando en la elaboración de un plan de acción adaptado a la realidad de cada organización. PonenteLa sesión estará impartida por Eva Trueba\, Directora de Desarrollo de Negocio en Skiller Academy\, entidad especializada en formación y acompañamiento en competencias digitales y adopción de inteligencia artificial en empresas. 								\n				\n					\n		\n					\n		\n				\n						\n					\n			\n						\n				\n									¡Apúntatelo en la agenda!								\n				\n				\n				\n									📅 Fecha: viernes\, 8 de mayo de 2026 ⏰ Horario: 10:30 – 13:30 h. 📍 Ubicación: Madrid Innovation Lab (MIL). C/ Bravo Murillo 37-39 								\n				\n					\n		\n					\n		\n				\n						\n					\n			\n						\n				\n									\n					\n						\n									Inscríbete aquí
URL:https://milmadrid.es/event/the-pitch-battle-quixote-vs-sancho-communication-workshop-para-emprendedores/
LOCATION:Madrid Innovation Lab\, Calle Bravo Murillo 37-39\, Madrid\, 28080\, España
CATEGORIES:Público General
ATTACH;FMTTYPE=image/png:https://milmadrid.es/wp-content/uploads/2026/03/23042026-1.png
END:VEVENT
BEGIN:VEVENT
DTSTART;TZID=Europe/Madrid:20260424T160000
DTEND;TZID=Europe/Madrid:20260424T200000
DTSTAMP:20260421T130351
CREATED:20251222T121126Z
LAST-MODIFIED:20260413T131949Z
UID:16659-1777046400-1777060800@milmadrid.es
SUMMARY:MIL_Academy | 4. IA para el análisis de datos y reporting: del dato a la visualización
DESCRIPTION:Cómo integrar con éxito la IA en la cultura empresarial				\n				\n					\n		\n					\n		\n				\n						\n					\n			\n						\n				\n									La adopción de la inteligencia artificial en las organizaciones no es solo una cuestión tecnológica\, sino también cultural. Integrarla con éxito implica transformar la forma de trabajar\, tomar decisiones y desarrollar talento dentro de la empresa. En esta sesión en el Madrid Innovation Lab\, exploraremos cómo incorporar la IA de manera estratégica\, ética y alineada con la realidad operativa de las organizaciones. Una jornada práctica orientada a ayudar a empresas y equipos a dar el paso desde la experimentación hacia una adopción estructurada y sostenible. Qué podrás aprenderDurante la sesión se abordarán los principales retos y oportunidades en la integración de la IA en la cultura empresarial: Cómo definir casos de uso relevantes y aplicables al negocio.Estrategias para integrar la IA en los flujos de trabajo reales.El impacto en roles\, habilidades y productividad de los equipos.Cómo gestionar barreras culturales como la resistencia al cambio o el miedo.Claves para establecer políticas y criterios éticos en el uso de la IA.Cómo medir resultados y avanzar hacia una adopción efectiva.La jornada incluirá además dinámicas prácticas y espacios de intercambio entre participantes\, culminando en la elaboración de un plan de acción adaptado a la realidad de cada organización. PonenteLa sesión estará impartida por Eva Trueba\, Directora de Desarrollo de Negocio en Skiller Academy\, entidad especializada en formación y acompañamiento en competencias digitales y adopción de inteligencia artificial en empresas. 								\n				\n					\n		\n					\n		\n				\n						\n					\n			\n						\n				\n									¡Apúntatelo en la agenda!								\n				\n				\n				\n									📅 Fecha: viernes\, 8 de mayo de 2026 ⏰ Horario: 10:30 – 13:30 h. 📍 Ubicación: Madrid Innovation Lab (MIL). C/ Bravo Murillo 37-39 								\n				\n					\n		\n					\n		\n				\n						\n					\n			\n						\n				\n									\n					\n						\n									Inscríbete aquí
URL:https://milmadrid.es/event/mil_academy-4-ia-para-la-decision-analitica-predictiva-y-forecasting/
LOCATION:Madrid Innovation Lab\, Calle Bravo Murillo 37-39\, Madrid\, 28080\, España
CATEGORIES:MIL Academy
ATTACH;FMTTYPE=image/png:https://milmadrid.es/wp-content/uploads/2025/12/MILacademy_YT_4.png
END:VEVENT
BEGIN:VEVENT
DTSTART;TZID=Europe/Madrid:20260428T090000
DTEND;TZID=Europe/Madrid:20260428T150000
DTSTAMP:20260421T130351
CREATED:20260327T170218Z
LAST-MODIFIED:20260327T170316Z
UID:18871-1777366800-1777388400@milmadrid.es
SUMMARY:Speed Networking 4Geeks Academy
DESCRIPTION:Cómo integrar con éxito la IA en la cultura empresarial				\n				\n					\n		\n					\n		\n				\n						\n					\n			\n						\n				\n									La adopción de la inteligencia artificial en las organizaciones no es solo una cuestión tecnológica\, sino también cultural. Integrarla con éxito implica transformar la forma de trabajar\, tomar decisiones y desarrollar talento dentro de la empresa. En esta sesión en el Madrid Innovation Lab\, exploraremos cómo incorporar la IA de manera estratégica\, ética y alineada con la realidad operativa de las organizaciones. Una jornada práctica orientada a ayudar a empresas y equipos a dar el paso desde la experimentación hacia una adopción estructurada y sostenible. Qué podrás aprenderDurante la sesión se abordarán los principales retos y oportunidades en la integración de la IA en la cultura empresarial: Cómo definir casos de uso relevantes y aplicables al negocio.Estrategias para integrar la IA en los flujos de trabajo reales.El impacto en roles\, habilidades y productividad de los equipos.Cómo gestionar barreras culturales como la resistencia al cambio o el miedo.Claves para establecer políticas y criterios éticos en el uso de la IA.Cómo medir resultados y avanzar hacia una adopción efectiva.La jornada incluirá además dinámicas prácticas y espacios de intercambio entre participantes\, culminando en la elaboración de un plan de acción adaptado a la realidad de cada organización. PonenteLa sesión estará impartida por Eva Trueba\, Directora de Desarrollo de Negocio en Skiller Academy\, entidad especializada en formación y acompañamiento en competencias digitales y adopción de inteligencia artificial en empresas. 								\n				\n					\n		\n					\n		\n				\n						\n					\n			\n						\n				\n									¡Apúntatelo en la agenda!								\n				\n				\n				\n									📅 Fecha: viernes\, 8 de mayo de 2026 ⏰ Horario: 10:30 – 13:30 h. 📍 Ubicación: Madrid Innovation Lab (MIL). C/ Bravo Murillo 37-39 								\n				\n					\n		\n					\n		\n				\n						\n					\n			\n						\n				\n									\n					\n						\n									Inscríbete aquí
URL:https://milmadrid.es/event/speed-networking-4geeks-academy/
LOCATION:Madrid Innovation Lab\, Calle Bravo Murillo 37-39\, Madrid\, 28080\, España
ATTACH;FMTTYPE=image/png:https://milmadrid.es/wp-content/uploads/2026/03/28042026-1.png
END:VEVENT
BEGIN:VEVENT
DTSTART;TZID=Europe/Madrid:20260428T173000
DTEND;TZID=Europe/Madrid:20260428T200000
DTSTAMP:20260421T130351
CREATED:20260415T133155Z
LAST-MODIFIED:20260415T133421Z
UID:19098-1777397400-1777406400@milmadrid.es
SUMMARY:Beta Dash: buildathon no-code con enfoque en talento femenino
DESCRIPTION:Cómo integrar con éxito la IA en la cultura empresarial				\n				\n					\n		\n					\n		\n				\n						\n					\n			\n						\n				\n									La adopción de la inteligencia artificial en las organizaciones no es solo una cuestión tecnológica\, sino también cultural. Integrarla con éxito implica transformar la forma de trabajar\, tomar decisiones y desarrollar talento dentro de la empresa. En esta sesión en el Madrid Innovation Lab\, exploraremos cómo incorporar la IA de manera estratégica\, ética y alineada con la realidad operativa de las organizaciones. Una jornada práctica orientada a ayudar a empresas y equipos a dar el paso desde la experimentación hacia una adopción estructurada y sostenible. Qué podrás aprenderDurante la sesión se abordarán los principales retos y oportunidades en la integración de la IA en la cultura empresarial: Cómo definir casos de uso relevantes y aplicables al negocio.Estrategias para integrar la IA en los flujos de trabajo reales.El impacto en roles\, habilidades y productividad de los equipos.Cómo gestionar barreras culturales como la resistencia al cambio o el miedo.Claves para establecer políticas y criterios éticos en el uso de la IA.Cómo medir resultados y avanzar hacia una adopción efectiva.La jornada incluirá además dinámicas prácticas y espacios de intercambio entre participantes\, culminando en la elaboración de un plan de acción adaptado a la realidad de cada organización. PonenteLa sesión estará impartida por Eva Trueba\, Directora de Desarrollo de Negocio en Skiller Academy\, entidad especializada en formación y acompañamiento en competencias digitales y adopción de inteligencia artificial en empresas. 								\n				\n					\n		\n					\n		\n				\n						\n					\n			\n						\n				\n									¡Apúntatelo en la agenda!								\n				\n				\n				\n									📅 Fecha: viernes\, 8 de mayo de 2026 ⏰ Horario: 10:30 – 13:30 h. 📍 Ubicación: Madrid Innovation Lab (MIL). C/ Bravo Murillo 37-39 								\n				\n					\n		\n					\n		\n				\n						\n					\n			\n						\n				\n									\n					\n						\n									Inscríbete aquí
URL:https://milmadrid.es/event/beta-dash-buildathon-no-code-con-enfoque-en-talento-femenino/
LOCATION:Madrid Innovation Lab\, Calle Bravo Murillo 37-39\, Madrid\, 28080\, España
CATEGORIES:Público Especializado
ATTACH;FMTTYPE=image/png:https://milmadrid.es/wp-content/uploads/2026/04/28042026-2.png
END:VEVENT
BEGIN:VEVENT
DTSTART;TZID=Europe/Madrid:20260429T170000
DTEND;TZID=Europe/Madrid:20260429T193000
DTSTAMP:20260421T130351
CREATED:20260410T101331Z
LAST-MODIFIED:20260416T125744Z
UID:19010-1777482000-1777491000@milmadrid.es
SUMMARY:Líderes en adopción de IA para el desarrollo de software en grandes corporaciones
DESCRIPTION:Cómo integrar con éxito la IA en la cultura empresarial				\n				\n					\n		\n					\n		\n				\n						\n					\n			\n						\n				\n									La adopción de la inteligencia artificial en las organizaciones no es solo una cuestión tecnológica\, sino también cultural. Integrarla con éxito implica transformar la forma de trabajar\, tomar decisiones y desarrollar talento dentro de la empresa. En esta sesión en el Madrid Innovation Lab\, exploraremos cómo incorporar la IA de manera estratégica\, ética y alineada con la realidad operativa de las organizaciones. Una jornada práctica orientada a ayudar a empresas y equipos a dar el paso desde la experimentación hacia una adopción estructurada y sostenible. Qué podrás aprenderDurante la sesión se abordarán los principales retos y oportunidades en la integración de la IA en la cultura empresarial: Cómo definir casos de uso relevantes y aplicables al negocio.Estrategias para integrar la IA en los flujos de trabajo reales.El impacto en roles\, habilidades y productividad de los equipos.Cómo gestionar barreras culturales como la resistencia al cambio o el miedo.Claves para establecer políticas y criterios éticos en el uso de la IA.Cómo medir resultados y avanzar hacia una adopción efectiva.La jornada incluirá además dinámicas prácticas y espacios de intercambio entre participantes\, culminando en la elaboración de un plan de acción adaptado a la realidad de cada organización. PonenteLa sesión estará impartida por Eva Trueba\, Directora de Desarrollo de Negocio en Skiller Academy\, entidad especializada en formación y acompañamiento en competencias digitales y adopción de inteligencia artificial en empresas. 								\n				\n					\n		\n					\n		\n				\n						\n					\n			\n						\n				\n									¡Apúntatelo en la agenda!								\n				\n				\n				\n									📅 Fecha: viernes\, 8 de mayo de 2026 ⏰ Horario: 10:30 – 13:30 h. 📍 Ubicación: Madrid Innovation Lab (MIL). C/ Bravo Murillo 37-39 								\n				\n					\n		\n					\n		\n				\n						\n					\n			\n						\n				\n									\n					\n						\n									Inscríbete aquí
URL:https://milmadrid.es/event/lideres-en-adopcion-de-ia-para-el-desarrollo-de-software-en-grandes-corporaciones/
LOCATION:Madrid Innovation Lab\, Calle Bravo Murillo 37-39\, Madrid\, 28080\, España
CATEGORIES:Público General
ATTACH;FMTTYPE=image/png:https://milmadrid.es/wp-content/uploads/2026/04/29042026-1.png
END:VEVENT
BEGIN:VEVENT
DTSTART;TZID=Europe/Madrid:20260430T170000
DTEND;TZID=Europe/Madrid:20260430T200000
DTSTAMP:20260421T130351
CREATED:20260313T104538Z
LAST-MODIFIED:20260313T104714Z
UID:18508-1777568400-1777579200@milmadrid.es
SUMMARY:Wazuh MeetUp Madrid
DESCRIPTION:Cómo integrar con éxito la IA en la cultura empresarial				\n				\n					\n		\n					\n		\n				\n						\n					\n			\n						\n				\n									La adopción de la inteligencia artificial en las organizaciones no es solo una cuestión tecnológica\, sino también cultural. Integrarla con éxito implica transformar la forma de trabajar\, tomar decisiones y desarrollar talento dentro de la empresa. En esta sesión en el Madrid Innovation Lab\, exploraremos cómo incorporar la IA de manera estratégica\, ética y alineada con la realidad operativa de las organizaciones. Una jornada práctica orientada a ayudar a empresas y equipos a dar el paso desde la experimentación hacia una adopción estructurada y sostenible. Qué podrás aprenderDurante la sesión se abordarán los principales retos y oportunidades en la integración de la IA en la cultura empresarial: Cómo definir casos de uso relevantes y aplicables al negocio.Estrategias para integrar la IA en los flujos de trabajo reales.El impacto en roles\, habilidades y productividad de los equipos.Cómo gestionar barreras culturales como la resistencia al cambio o el miedo.Claves para establecer políticas y criterios éticos en el uso de la IA.Cómo medir resultados y avanzar hacia una adopción efectiva.La jornada incluirá además dinámicas prácticas y espacios de intercambio entre participantes\, culminando en la elaboración de un plan de acción adaptado a la realidad de cada organización. PonenteLa sesión estará impartida por Eva Trueba\, Directora de Desarrollo de Negocio en Skiller Academy\, entidad especializada en formación y acompañamiento en competencias digitales y adopción de inteligencia artificial en empresas. 								\n				\n					\n		\n					\n		\n				\n						\n					\n			\n						\n				\n									¡Apúntatelo en la agenda!								\n				\n				\n				\n									📅 Fecha: viernes\, 8 de mayo de 2026 ⏰ Horario: 10:30 – 13:30 h. 📍 Ubicación: Madrid Innovation Lab (MIL). C/ Bravo Murillo 37-39 								\n				\n					\n		\n					\n		\n				\n						\n					\n			\n						\n				\n									\n					\n						\n									Inscríbete aquí
URL:https://milmadrid.es/event/wazuh-meetup-madrid/
LOCATION:Madrid Innovation Lab\, Calle Bravo Murillo 37-39\, Madrid\, 28080\, España
CATEGORIES:Público General
ATTACH;FMTTYPE=image/png:https://milmadrid.es/wp-content/uploads/2026/03/30042026.png
END:VEVENT
END:VCALENDAR