BEGIN:VCALENDAR
VERSION:2.0
PRODID:-//MIL Madrid - ECPv6.15.20//NONSGML v1.0//EN
CALSCALE:GREGORIAN
METHOD:PUBLISH
X-WR-CALNAME:MIL Madrid
X-ORIGINAL-URL:https://milmadrid.es
X-WR-CALDESC:Eventos para MIL Madrid
REFRESH-INTERVAL;VALUE=DURATION:PT1H
X-Robots-Tag:noindex
X-PUBLISHED-TTL:PT1H
BEGIN:VTIMEZONE
TZID:Europe/Madrid
BEGIN:DAYLIGHT
TZOFFSETFROM:+0100
TZOFFSETTO:+0200
TZNAME:CEST
DTSTART:20250330T010000
END:DAYLIGHT
BEGIN:STANDARD
TZOFFSETFROM:+0200
TZOFFSETTO:+0100
TZNAME:CET
DTSTART:20251026T010000
END:STANDARD
BEGIN:DAYLIGHT
TZOFFSETFROM:+0100
TZOFFSETTO:+0200
TZNAME:CEST
DTSTART:20260329T010000
END:DAYLIGHT
BEGIN:STANDARD
TZOFFSETFROM:+0200
TZOFFSETTO:+0100
TZNAME:CET
DTSTART:20261025T010000
END:STANDARD
BEGIN:DAYLIGHT
TZOFFSETFROM:+0100
TZOFFSETTO:+0200
TZNAME:CEST
DTSTART:20270328T010000
END:DAYLIGHT
BEGIN:STANDARD
TZOFFSETFROM:+0200
TZOFFSETTO:+0100
TZNAME:CET
DTSTART:20271031T010000
END:STANDARD
END:VTIMEZONE
BEGIN:VEVENT
DTSTART;TZID=Europe/Madrid:20260504T160000
DTEND;TZID=Europe/Madrid:20260504T200000
DTSTAMP:20260421T141432
CREATED:20260415T134246Z
LAST-MODIFIED:20260417T111252Z
UID:19103-1777910400-1777924800@milmadrid.es
SUMMARY:Pharos Spanish Meetup Madrid by Stakely
DESCRIPTION:Cómo integrar con éxito la IA en la cultura empresarial				\n				\n					\n		\n					\n		\n				\n						\n					\n			\n						\n				\n									La adopción de la inteligencia artificial en las organizaciones no es solo una cuestión tecnológica\, sino también cultural. Integrarla con éxito implica transformar la forma de trabajar\, tomar decisiones y desarrollar talento dentro de la empresa. En esta sesión en el Madrid Innovation Lab\, exploraremos cómo incorporar la IA de manera estratégica\, ética y alineada con la realidad operativa de las organizaciones. Una jornada práctica orientada a ayudar a empresas y equipos a dar el paso desde la experimentación hacia una adopción estructurada y sostenible. Qué podrás aprenderDurante la sesión se abordarán los principales retos y oportunidades en la integración de la IA en la cultura empresarial: Cómo definir casos de uso relevantes y aplicables al negocio.Estrategias para integrar la IA en los flujos de trabajo reales.El impacto en roles\, habilidades y productividad de los equipos.Cómo gestionar barreras culturales como la resistencia al cambio o el miedo.Claves para establecer políticas y criterios éticos en el uso de la IA.Cómo medir resultados y avanzar hacia una adopción efectiva.La jornada incluirá además dinámicas prácticas y espacios de intercambio entre participantes\, culminando en la elaboración de un plan de acción adaptado a la realidad de cada organización. PonenteLa sesión estará impartida por Eva Trueba\, Directora de Desarrollo de Negocio en Skiller Academy\, entidad especializada en formación y acompañamiento en competencias digitales y adopción de inteligencia artificial en empresas. 								\n				\n					\n		\n					\n		\n				\n						\n					\n			\n						\n				\n									¡Apúntatelo en la agenda!								\n				\n				\n				\n									📅 Fecha: viernes\, 8 de mayo de 2026 ⏰ Horario: 10:30 – 13:30 h. 📍 Ubicación: Madrid Innovation Lab (MIL). C/ Bravo Murillo 37-39 								\n				\n					\n		\n					\n		\n				\n						\n					\n			\n						\n				\n									\n					\n						\n									Inscríbete aquí
URL:https://milmadrid.es/event/pharos-spanish-meetup-madrid-by-stakely/
LOCATION:Madrid Innovation Lab\, Calle Bravo Murillo 37-39\, Madrid\, 28080\, España
CATEGORIES:Público Especializado
ATTACH;FMTTYPE=image/png:https://milmadrid.es/wp-content/uploads/2026/04/04052026.png
END:VEVENT
BEGIN:VEVENT
DTSTART;TZID=Europe/Madrid:20260505T110000
DTEND;TZID=Europe/Madrid:20260505T123000
DTSTAMP:20260421T141432
CREATED:20260128T152848Z
LAST-MODIFIED:20260128T152915Z
UID:17254-1777978800-1777984200@milmadrid.es
SUMMARY:Programa Apptitud | Séptima sesión
DESCRIPTION:Cómo integrar con éxito la IA en la cultura empresarial				\n				\n					\n		\n					\n		\n				\n						\n					\n			\n						\n				\n									La adopción de la inteligencia artificial en las organizaciones no es solo una cuestión tecnológica\, sino también cultural. Integrarla con éxito implica transformar la forma de trabajar\, tomar decisiones y desarrollar talento dentro de la empresa. En esta sesión en el Madrid Innovation Lab\, exploraremos cómo incorporar la IA de manera estratégica\, ética y alineada con la realidad operativa de las organizaciones. Una jornada práctica orientada a ayudar a empresas y equipos a dar el paso desde la experimentación hacia una adopción estructurada y sostenible. Qué podrás aprenderDurante la sesión se abordarán los principales retos y oportunidades en la integración de la IA en la cultura empresarial: Cómo definir casos de uso relevantes y aplicables al negocio.Estrategias para integrar la IA en los flujos de trabajo reales.El impacto en roles\, habilidades y productividad de los equipos.Cómo gestionar barreras culturales como la resistencia al cambio o el miedo.Claves para establecer políticas y criterios éticos en el uso de la IA.Cómo medir resultados y avanzar hacia una adopción efectiva.La jornada incluirá además dinámicas prácticas y espacios de intercambio entre participantes\, culminando en la elaboración de un plan de acción adaptado a la realidad de cada organización. PonenteLa sesión estará impartida por Eva Trueba\, Directora de Desarrollo de Negocio en Skiller Academy\, entidad especializada en formación y acompañamiento en competencias digitales y adopción de inteligencia artificial en empresas. 								\n				\n					\n		\n					\n		\n				\n						\n					\n			\n						\n				\n									¡Apúntatelo en la agenda!								\n				\n				\n				\n									📅 Fecha: viernes\, 8 de mayo de 2026 ⏰ Horario: 10:30 – 13:30 h. 📍 Ubicación: Madrid Innovation Lab (MIL). C/ Bravo Murillo 37-39 								\n				\n					\n		\n					\n		\n				\n						\n					\n			\n						\n				\n									\n					\n						\n									Inscríbete aquí
URL:https://milmadrid.es/event/programa-apptitud-septima-sesion/
LOCATION:Madrid Innovation Lab\, Calle Bravo Murillo 37-39\, Madrid\, 28080\, España
CATEGORIES:Programa Apptitud,Público General
ATTACH;FMTTYPE=image/png:https://milmadrid.es/wp-content/uploads/2026/01/Programa-APPTITUD-7.png
END:VEVENT
BEGIN:VEVENT
DTSTART;TZID=Europe/Madrid:20260507T100000
DTEND;TZID=Europe/Madrid:20260507T140000
DTSTAMP:20260421T141432
CREATED:20260415T135417Z
LAST-MODIFIED:20260415T135615Z
UID:19108-1778148000-1778162400@milmadrid.es
SUMMARY:Formación IA para Directores Comerciales
DESCRIPTION:Cómo integrar con éxito la IA en la cultura empresarial				\n				\n					\n		\n					\n		\n				\n						\n					\n			\n						\n				\n									La adopción de la inteligencia artificial en las organizaciones no es solo una cuestión tecnológica\, sino también cultural. Integrarla con éxito implica transformar la forma de trabajar\, tomar decisiones y desarrollar talento dentro de la empresa. En esta sesión en el Madrid Innovation Lab\, exploraremos cómo incorporar la IA de manera estratégica\, ética y alineada con la realidad operativa de las organizaciones. Una jornada práctica orientada a ayudar a empresas y equipos a dar el paso desde la experimentación hacia una adopción estructurada y sostenible. Qué podrás aprenderDurante la sesión se abordarán los principales retos y oportunidades en la integración de la IA en la cultura empresarial: Cómo definir casos de uso relevantes y aplicables al negocio.Estrategias para integrar la IA en los flujos de trabajo reales.El impacto en roles\, habilidades y productividad de los equipos.Cómo gestionar barreras culturales como la resistencia al cambio o el miedo.Claves para establecer políticas y criterios éticos en el uso de la IA.Cómo medir resultados y avanzar hacia una adopción efectiva.La jornada incluirá además dinámicas prácticas y espacios de intercambio entre participantes\, culminando en la elaboración de un plan de acción adaptado a la realidad de cada organización. PonenteLa sesión estará impartida por Eva Trueba\, Directora de Desarrollo de Negocio en Skiller Academy\, entidad especializada en formación y acompañamiento en competencias digitales y adopción de inteligencia artificial en empresas. 								\n				\n					\n		\n					\n		\n				\n						\n					\n			\n						\n				\n									¡Apúntatelo en la agenda!								\n				\n				\n				\n									📅 Fecha: viernes\, 8 de mayo de 2026 ⏰ Horario: 10:30 – 13:30 h. 📍 Ubicación: Madrid Innovation Lab (MIL). C/ Bravo Murillo 37-39 								\n				\n					\n		\n					\n		\n				\n						\n					\n			\n						\n				\n									\n					\n						\n									Inscríbete aquí
URL:https://milmadrid.es/event/formacion-ia-para-directores-comerciales/
LOCATION:Madrid Innovation Lab\, Calle Bravo Murillo 37-39\, Madrid\, 28080\, España
CATEGORIES:Público General
ATTACH;FMTTYPE=image/png:https://milmadrid.es/wp-content/uploads/2026/04/07052026.png
END:VEVENT
BEGIN:VEVENT
DTSTART;TZID=Europe/Madrid:20260508T103000
DTEND;TZID=Europe/Madrid:20260508T133000
DTSTAMP:20260421T141432
CREATED:20260417T125821Z
LAST-MODIFIED:20260417T125957Z
UID:19154-1778236200-1778247000@milmadrid.es
SUMMARY:Cómo integrar con éxito la IA en la cultura empresarial
DESCRIPTION:Cómo integrar con éxito la IA en la cultura empresarial				\n				\n					\n		\n					\n		\n				\n						\n					\n			\n						\n				\n									La adopción de la inteligencia artificial en las organizaciones no es solo una cuestión tecnológica\, sino también cultural. Integrarla con éxito implica transformar la forma de trabajar\, tomar decisiones y desarrollar talento dentro de la empresa. En esta sesión en el Madrid Innovation Lab\, exploraremos cómo incorporar la IA de manera estratégica\, ética y alineada con la realidad operativa de las organizaciones. Una jornada práctica orientada a ayudar a empresas y equipos a dar el paso desde la experimentación hacia una adopción estructurada y sostenible. Qué podrás aprenderDurante la sesión se abordarán los principales retos y oportunidades en la integración de la IA en la cultura empresarial: Cómo definir casos de uso relevantes y aplicables al negocio.Estrategias para integrar la IA en los flujos de trabajo reales.El impacto en roles\, habilidades y productividad de los equipos.Cómo gestionar barreras culturales como la resistencia al cambio o el miedo.Claves para establecer políticas y criterios éticos en el uso de la IA.Cómo medir resultados y avanzar hacia una adopción efectiva.La jornada incluirá además dinámicas prácticas y espacios de intercambio entre participantes\, culminando en la elaboración de un plan de acción adaptado a la realidad de cada organización. PonenteLa sesión estará impartida por Eva Trueba\, Directora de Desarrollo de Negocio en Skiller Academy\, entidad especializada en formación y acompañamiento en competencias digitales y adopción de inteligencia artificial en empresas. 								\n				\n					\n		\n					\n		\n				\n						\n					\n			\n						\n				\n									¡Apúntatelo en la agenda!								\n				\n				\n				\n									📅 Fecha: viernes\, 8 de mayo de 2026 ⏰ Horario: 10:30 – 13:30 h. 📍 Ubicación: Madrid Innovation Lab (MIL). C/ Bravo Murillo 37-39 								\n				\n					\n		\n					\n		\n				\n						\n					\n			\n						\n				\n									\n					\n						\n									Inscríbete aquí
URL:https://milmadrid.es/event/como-integrar-con-exito-la-ia-en-la-cultura-empresarial/
LOCATION:Madrid Innovation Lab\, Calle Bravo Murillo 37-39\, Madrid\, 28080\, España
CATEGORIES:Público General
ATTACH;FMTTYPE=image/png:https://milmadrid.es/wp-content/uploads/2026/04/08052026.png
END:VEVENT
BEGIN:VEVENT
DTSTART;TZID=Europe/Madrid:20260512T180000
DTEND;TZID=Europe/Madrid:20260512T200000
DTSTAMP:20260421T141432
CREATED:20260415T141924Z
LAST-MODIFIED:20260417T114652Z
UID:19121-1778608800-1778616000@milmadrid.es
SUMMARY:CAIOS: Corporate Artificial Intelligence Operative Systems
DESCRIPTION:Cómo integrar con éxito la IA en la cultura empresarial				\n				\n					\n		\n					\n		\n				\n						\n					\n			\n						\n				\n									La adopción de la inteligencia artificial en las organizaciones no es solo una cuestión tecnológica\, sino también cultural. Integrarla con éxito implica transformar la forma de trabajar\, tomar decisiones y desarrollar talento dentro de la empresa. En esta sesión en el Madrid Innovation Lab\, exploraremos cómo incorporar la IA de manera estratégica\, ética y alineada con la realidad operativa de las organizaciones. Una jornada práctica orientada a ayudar a empresas y equipos a dar el paso desde la experimentación hacia una adopción estructurada y sostenible. Qué podrás aprenderDurante la sesión se abordarán los principales retos y oportunidades en la integración de la IA en la cultura empresarial: Cómo definir casos de uso relevantes y aplicables al negocio.Estrategias para integrar la IA en los flujos de trabajo reales.El impacto en roles\, habilidades y productividad de los equipos.Cómo gestionar barreras culturales como la resistencia al cambio o el miedo.Claves para establecer políticas y criterios éticos en el uso de la IA.Cómo medir resultados y avanzar hacia una adopción efectiva.La jornada incluirá además dinámicas prácticas y espacios de intercambio entre participantes\, culminando en la elaboración de un plan de acción adaptado a la realidad de cada organización. PonenteLa sesión estará impartida por Eva Trueba\, Directora de Desarrollo de Negocio en Skiller Academy\, entidad especializada en formación y acompañamiento en competencias digitales y adopción de inteligencia artificial en empresas. 								\n				\n					\n		\n					\n		\n				\n						\n					\n			\n						\n				\n									¡Apúntatelo en la agenda!								\n				\n				\n				\n									📅 Fecha: viernes\, 8 de mayo de 2026 ⏰ Horario: 10:30 – 13:30 h. 📍 Ubicación: Madrid Innovation Lab (MIL). C/ Bravo Murillo 37-39 								\n				\n					\n		\n					\n		\n				\n						\n					\n			\n						\n				\n									\n					\n						\n									Inscríbete aquí
URL:https://milmadrid.es/event/caios-corporate-artificial-intelligence-operative-systems/
ATTACH;FMTTYPE=image/png:https://milmadrid.es/wp-content/uploads/2026/04/12052026-1.png
END:VEVENT
BEGIN:VEVENT
DTSTART;TZID=Europe/Madrid:20260513T180000
DTEND;TZID=Europe/Madrid:20260513T200000
DTSTAMP:20260421T141432
CREATED:20260415T144931Z
LAST-MODIFIED:20260415T145100Z
UID:19126-1778695200-1778702400@milmadrid.es
SUMMARY:Mitos y realidades de la computación cuántica
DESCRIPTION:Cómo integrar con éxito la IA en la cultura empresarial				\n				\n					\n		\n					\n		\n				\n						\n					\n			\n						\n				\n									La adopción de la inteligencia artificial en las organizaciones no es solo una cuestión tecnológica\, sino también cultural. Integrarla con éxito implica transformar la forma de trabajar\, tomar decisiones y desarrollar talento dentro de la empresa. En esta sesión en el Madrid Innovation Lab\, exploraremos cómo incorporar la IA de manera estratégica\, ética y alineada con la realidad operativa de las organizaciones. Una jornada práctica orientada a ayudar a empresas y equipos a dar el paso desde la experimentación hacia una adopción estructurada y sostenible. Qué podrás aprenderDurante la sesión se abordarán los principales retos y oportunidades en la integración de la IA en la cultura empresarial: Cómo definir casos de uso relevantes y aplicables al negocio.Estrategias para integrar la IA en los flujos de trabajo reales.El impacto en roles\, habilidades y productividad de los equipos.Cómo gestionar barreras culturales como la resistencia al cambio o el miedo.Claves para establecer políticas y criterios éticos en el uso de la IA.Cómo medir resultados y avanzar hacia una adopción efectiva.La jornada incluirá además dinámicas prácticas y espacios de intercambio entre participantes\, culminando en la elaboración de un plan de acción adaptado a la realidad de cada organización. PonenteLa sesión estará impartida por Eva Trueba\, Directora de Desarrollo de Negocio en Skiller Academy\, entidad especializada en formación y acompañamiento en competencias digitales y adopción de inteligencia artificial en empresas. 								\n				\n					\n		\n					\n		\n				\n						\n					\n			\n						\n				\n									¡Apúntatelo en la agenda!								\n				\n				\n				\n									📅 Fecha: viernes\, 8 de mayo de 2026 ⏰ Horario: 10:30 – 13:30 h. 📍 Ubicación: Madrid Innovation Lab (MIL). C/ Bravo Murillo 37-39 								\n				\n					\n		\n					\n		\n				\n						\n					\n			\n						\n				\n									\n					\n						\n									Inscríbete aquí
URL:https://milmadrid.es/event/mitos-y-realidades-de-la-computacion-cuantica/
LOCATION:Madrid Innovation Lab\, Calle Bravo Murillo 37-39\, Madrid\, 28080\, España
CATEGORIES:Público Especializado
ATTACH;FMTTYPE=image/png:https://milmadrid.es/wp-content/uploads/2026/04/13052026.png
END:VEVENT
BEGIN:VEVENT
DTSTART;TZID=Europe/Madrid:20260519T110000
DTEND;TZID=Europe/Madrid:20260519T123000
DTSTAMP:20260421T141432
CREATED:20260128T153245Z
LAST-MODIFIED:20260128T153322Z
UID:17259-1779188400-1779193800@milmadrid.es
SUMMARY:Programa Apptitud | Octava sesión
DESCRIPTION:Cómo integrar con éxito la IA en la cultura empresarial				\n				\n					\n		\n					\n		\n				\n						\n					\n			\n						\n				\n									La adopción de la inteligencia artificial en las organizaciones no es solo una cuestión tecnológica\, sino también cultural. Integrarla con éxito implica transformar la forma de trabajar\, tomar decisiones y desarrollar talento dentro de la empresa. En esta sesión en el Madrid Innovation Lab\, exploraremos cómo incorporar la IA de manera estratégica\, ética y alineada con la realidad operativa de las organizaciones. Una jornada práctica orientada a ayudar a empresas y equipos a dar el paso desde la experimentación hacia una adopción estructurada y sostenible. Qué podrás aprenderDurante la sesión se abordarán los principales retos y oportunidades en la integración de la IA en la cultura empresarial: Cómo definir casos de uso relevantes y aplicables al negocio.Estrategias para integrar la IA en los flujos de trabajo reales.El impacto en roles\, habilidades y productividad de los equipos.Cómo gestionar barreras culturales como la resistencia al cambio o el miedo.Claves para establecer políticas y criterios éticos en el uso de la IA.Cómo medir resultados y avanzar hacia una adopción efectiva.La jornada incluirá además dinámicas prácticas y espacios de intercambio entre participantes\, culminando en la elaboración de un plan de acción adaptado a la realidad de cada organización. PonenteLa sesión estará impartida por Eva Trueba\, Directora de Desarrollo de Negocio en Skiller Academy\, entidad especializada en formación y acompañamiento en competencias digitales y adopción de inteligencia artificial en empresas. 								\n				\n					\n		\n					\n		\n				\n						\n					\n			\n						\n				\n									¡Apúntatelo en la agenda!								\n				\n				\n				\n									📅 Fecha: viernes\, 8 de mayo de 2026 ⏰ Horario: 10:30 – 13:30 h. 📍 Ubicación: Madrid Innovation Lab (MIL). C/ Bravo Murillo 37-39 								\n				\n					\n		\n					\n		\n				\n						\n					\n			\n						\n				\n									\n					\n						\n									Inscríbete aquí
URL:https://milmadrid.es/event/programa-apptitud-octava-sesion/
LOCATION:Madrid Innovation Lab\, Calle Bravo Murillo 37-39\, Madrid\, 28080\, España
CATEGORIES:Programa Apptitud,Público General
ATTACH;FMTTYPE=image/png:https://milmadrid.es/wp-content/uploads/2026/01/Programa-APPTITUD-8.png
END:VEVENT
BEGIN:VEVENT
DTSTART;TZID=Europe/Madrid:20260522T160000
DTEND;TZID=Europe/Madrid:20260522T200000
DTSTAMP:20260421T141432
CREATED:20251222T121518Z
LAST-MODIFIED:20260102T082258Z
UID:16668-1779465600-1779480000@milmadrid.es
SUMMARY:MIL_Academy | 5. Hiperpersonalización con IA: diseño de customer journeys
DESCRIPTION:Cómo integrar con éxito la IA en la cultura empresarial				\n				\n					\n		\n					\n		\n				\n						\n					\n			\n						\n				\n									La adopción de la inteligencia artificial en las organizaciones no es solo una cuestión tecnológica\, sino también cultural. Integrarla con éxito implica transformar la forma de trabajar\, tomar decisiones y desarrollar talento dentro de la empresa. En esta sesión en el Madrid Innovation Lab\, exploraremos cómo incorporar la IA de manera estratégica\, ética y alineada con la realidad operativa de las organizaciones. Una jornada práctica orientada a ayudar a empresas y equipos a dar el paso desde la experimentación hacia una adopción estructurada y sostenible. Qué podrás aprenderDurante la sesión se abordarán los principales retos y oportunidades en la integración de la IA en la cultura empresarial: Cómo definir casos de uso relevantes y aplicables al negocio.Estrategias para integrar la IA en los flujos de trabajo reales.El impacto en roles\, habilidades y productividad de los equipos.Cómo gestionar barreras culturales como la resistencia al cambio o el miedo.Claves para establecer políticas y criterios éticos en el uso de la IA.Cómo medir resultados y avanzar hacia una adopción efectiva.La jornada incluirá además dinámicas prácticas y espacios de intercambio entre participantes\, culminando en la elaboración de un plan de acción adaptado a la realidad de cada organización. PonenteLa sesión estará impartida por Eva Trueba\, Directora de Desarrollo de Negocio en Skiller Academy\, entidad especializada en formación y acompañamiento en competencias digitales y adopción de inteligencia artificial en empresas. 								\n				\n					\n		\n					\n		\n				\n						\n					\n			\n						\n				\n									¡Apúntatelo en la agenda!								\n				\n				\n				\n									📅 Fecha: viernes\, 8 de mayo de 2026 ⏰ Horario: 10:30 – 13:30 h. 📍 Ubicación: Madrid Innovation Lab (MIL). C/ Bravo Murillo 37-39 								\n				\n					\n		\n					\n		\n				\n						\n					\n			\n						\n				\n									\n					\n						\n									Inscríbete aquí
URL:https://milmadrid.es/event/mil_academy-5-hiperpersonalizacion-con-ia-diseno-de-customer-journeys/
CATEGORIES:MIL Academy
ATTACH;FMTTYPE=image/png:https://milmadrid.es/wp-content/uploads/2025/12/MILacademy-5.png
END:VEVENT
BEGIN:VEVENT
DTSTART;TZID=Europe/Madrid:20260527T090000
DTEND;TZID=Europe/Madrid:20260528T180000
DTSTAMP:20260421T141432
CREATED:20260416T140118Z
LAST-MODIFIED:20260416T142005Z
UID:19137-1779872400-1779991200@milmadrid.es
SUMMARY:ModalShift | General Assembly
DESCRIPTION:Cómo integrar con éxito la IA en la cultura empresarial				\n				\n					\n		\n					\n		\n				\n						\n					\n			\n						\n				\n									La adopción de la inteligencia artificial en las organizaciones no es solo una cuestión tecnológica\, sino también cultural. Integrarla con éxito implica transformar la forma de trabajar\, tomar decisiones y desarrollar talento dentro de la empresa. En esta sesión en el Madrid Innovation Lab\, exploraremos cómo incorporar la IA de manera estratégica\, ética y alineada con la realidad operativa de las organizaciones. Una jornada práctica orientada a ayudar a empresas y equipos a dar el paso desde la experimentación hacia una adopción estructurada y sostenible. Qué podrás aprenderDurante la sesión se abordarán los principales retos y oportunidades en la integración de la IA en la cultura empresarial: Cómo definir casos de uso relevantes y aplicables al negocio.Estrategias para integrar la IA en los flujos de trabajo reales.El impacto en roles\, habilidades y productividad de los equipos.Cómo gestionar barreras culturales como la resistencia al cambio o el miedo.Claves para establecer políticas y criterios éticos en el uso de la IA.Cómo medir resultados y avanzar hacia una adopción efectiva.La jornada incluirá además dinámicas prácticas y espacios de intercambio entre participantes\, culminando en la elaboración de un plan de acción adaptado a la realidad de cada organización. PonenteLa sesión estará impartida por Eva Trueba\, Directora de Desarrollo de Negocio en Skiller Academy\, entidad especializada en formación y acompañamiento en competencias digitales y adopción de inteligencia artificial en empresas. 								\n				\n					\n		\n					\n		\n				\n						\n					\n			\n						\n				\n									¡Apúntatelo en la agenda!								\n				\n				\n				\n									📅 Fecha: viernes\, 8 de mayo de 2026 ⏰ Horario: 10:30 – 13:30 h. 📍 Ubicación: Madrid Innovation Lab (MIL). C/ Bravo Murillo 37-39 								\n				\n					\n		\n					\n		\n				\n						\n					\n			\n						\n				\n									\n					\n						\n									Inscríbete aquí
URL:https://milmadrid.es/event/modalshift-general-assembly/
LOCATION:Madrid Innovation Lab\, Calle Bravo Murillo 37-39\, Madrid\, 28080\, España
CATEGORIES:Público Especializado
ATTACH;FMTTYPE=image/png:https://milmadrid.es/wp-content/uploads/2026/04/2728052026.png
END:VEVENT
BEGIN:VEVENT
DTSTART;TZID=Europe/Madrid:20260528T183000
DTEND;TZID=Europe/Madrid:20260528T200000
DTSTAMP:20260421T141432
CREATED:20260415T140600Z
LAST-MODIFIED:20260415T140907Z
UID:19113-1779993000-1779998400@milmadrid.es
SUMMARY:BOSQUE_IA: Inteligencias en Diálogo
DESCRIPTION:Cómo integrar con éxito la IA en la cultura empresarial				\n				\n					\n		\n					\n		\n				\n						\n					\n			\n						\n				\n									La adopción de la inteligencia artificial en las organizaciones no es solo una cuestión tecnológica\, sino también cultural. Integrarla con éxito implica transformar la forma de trabajar\, tomar decisiones y desarrollar talento dentro de la empresa. En esta sesión en el Madrid Innovation Lab\, exploraremos cómo incorporar la IA de manera estratégica\, ética y alineada con la realidad operativa de las organizaciones. Una jornada práctica orientada a ayudar a empresas y equipos a dar el paso desde la experimentación hacia una adopción estructurada y sostenible. Qué podrás aprenderDurante la sesión se abordarán los principales retos y oportunidades en la integración de la IA en la cultura empresarial: Cómo definir casos de uso relevantes y aplicables al negocio.Estrategias para integrar la IA en los flujos de trabajo reales.El impacto en roles\, habilidades y productividad de los equipos.Cómo gestionar barreras culturales como la resistencia al cambio o el miedo.Claves para establecer políticas y criterios éticos en el uso de la IA.Cómo medir resultados y avanzar hacia una adopción efectiva.La jornada incluirá además dinámicas prácticas y espacios de intercambio entre participantes\, culminando en la elaboración de un plan de acción adaptado a la realidad de cada organización. PonenteLa sesión estará impartida por Eva Trueba\, Directora de Desarrollo de Negocio en Skiller Academy\, entidad especializada en formación y acompañamiento en competencias digitales y adopción de inteligencia artificial en empresas. 								\n				\n					\n		\n					\n		\n				\n						\n					\n			\n						\n				\n									¡Apúntatelo en la agenda!								\n				\n				\n				\n									📅 Fecha: viernes\, 8 de mayo de 2026 ⏰ Horario: 10:30 – 13:30 h. 📍 Ubicación: Madrid Innovation Lab (MIL). C/ Bravo Murillo 37-39 								\n				\n					\n		\n					\n		\n				\n						\n					\n			\n						\n				\n									\n					\n						\n									Inscríbete aquí
URL:https://milmadrid.es/event/bosque_ia-inteligencias-en-dialogo/
LOCATION:Madrid Innovation Lab\, Calle Bravo Murillo 37-39\, Madrid\, 28080\, España
CATEGORIES:Público General
ATTACH;FMTTYPE=image/png:https://milmadrid.es/wp-content/uploads/2026/04/25052026.png
END:VEVENT
END:VCALENDAR