BEGIN:VCALENDAR
VERSION:2.0
PRODID:-//MIL Madrid - ECPv6.15.20//NONSGML v1.0//EN
CALSCALE:GREGORIAN
METHOD:PUBLISH
X-WR-CALNAME:MIL Madrid
X-ORIGINAL-URL:https://milmadrid.es
X-WR-CALDESC:Eventos para MIL Madrid
REFRESH-INTERVAL;VALUE=DURATION:PT1H
X-Robots-Tag:noindex
X-PUBLISHED-TTL:PT1H
BEGIN:VTIMEZONE
TZID:Europe/Madrid
BEGIN:DAYLIGHT
TZOFFSETFROM:+0100
TZOFFSETTO:+0200
TZNAME:CEST
DTSTART:20250330T010000
END:DAYLIGHT
BEGIN:STANDARD
TZOFFSETFROM:+0200
TZOFFSETTO:+0100
TZNAME:CET
DTSTART:20251026T010000
END:STANDARD
BEGIN:DAYLIGHT
TZOFFSETFROM:+0100
TZOFFSETTO:+0200
TZNAME:CEST
DTSTART:20260329T010000
END:DAYLIGHT
BEGIN:STANDARD
TZOFFSETFROM:+0200
TZOFFSETTO:+0100
TZNAME:CET
DTSTART:20261025T010000
END:STANDARD
BEGIN:DAYLIGHT
TZOFFSETFROM:+0100
TZOFFSETTO:+0200
TZNAME:CEST
DTSTART:20270328T010000
END:DAYLIGHT
BEGIN:STANDARD
TZOFFSETFROM:+0200
TZOFFSETTO:+0100
TZNAME:CET
DTSTART:20271031T010000
END:STANDARD
END:VTIMEZONE
BEGIN:VEVENT
DTSTART;TZID=Europe/Madrid:20260109T180000
DTEND;TZID=Europe/Madrid:20260109T200000
DTSTAMP:20260421T165727
CREATED:20251223T133935Z
LAST-MODIFIED:20251223T134047Z
UID:16728-1767981600-1767988800@milmadrid.es
SUMMARY:Networking de AI Careers para profesionales y estudiantes de IA
DESCRIPTION:Cómo integrar con éxito la IA en la cultura empresarial				\n				\n					\n		\n					\n		\n				\n						\n					\n			\n						\n				\n									La adopción de la inteligencia artificial en las organizaciones no es solo una cuestión tecnológica\, sino también cultural. Integrarla con éxito implica transformar la forma de trabajar\, tomar decisiones y desarrollar talento dentro de la empresa. En esta sesión en el Madrid Innovation Lab\, exploraremos cómo incorporar la IA de manera estratégica\, ética y alineada con la realidad operativa de las organizaciones. Una jornada práctica orientada a ayudar a empresas y equipos a dar el paso desde la experimentación hacia una adopción estructurada y sostenible. Qué podrás aprenderDurante la sesión se abordarán los principales retos y oportunidades en la integración de la IA en la cultura empresarial: Cómo definir casos de uso relevantes y aplicables al negocio.Estrategias para integrar la IA en los flujos de trabajo reales.El impacto en roles\, habilidades y productividad de los equipos.Cómo gestionar barreras culturales como la resistencia al cambio o el miedo.Claves para establecer políticas y criterios éticos en el uso de la IA.Cómo medir resultados y avanzar hacia una adopción efectiva.La jornada incluirá además dinámicas prácticas y espacios de intercambio entre participantes\, culminando en la elaboración de un plan de acción adaptado a la realidad de cada organización. PonenteLa sesión estará impartida por Eva Trueba\, Directora de Desarrollo de Negocio en Skiller Academy\, entidad especializada en formación y acompañamiento en competencias digitales y adopción de inteligencia artificial en empresas. 								\n				\n					\n		\n					\n		\n				\n						\n					\n			\n						\n				\n									¡Apúntatelo en la agenda!								\n				\n				\n				\n									📅 Fecha: viernes\, 8 de mayo de 2026 ⏰ Horario: 10:30 – 13:30 h. 📍 Ubicación: Madrid Innovation Lab (MIL). C/ Bravo Murillo 37-39 								\n				\n					\n		\n					\n		\n				\n						\n					\n			\n						\n				\n									\n					\n						\n									Inscríbete aquí
URL:https://milmadrid.es/event/networking-de-ai-careers-para-profesionales-y-estudiantes-de-ia/
LOCATION:Madrid Innovation Lab\, Calle Bravo Murillo 37-39\, Madrid\, 28080\, España
CATEGORIES:Público General
ATTACH;FMTTYPE=image/png:https://milmadrid.es/wp-content/uploads/2025/12/09012026.png
END:VEVENT
BEGIN:VEVENT
DTSTART;TZID=Europe/Madrid:20260113T180000
DTEND;TZID=Europe/Madrid:20260113T193000
DTSTAMP:20260421T165727
CREATED:20251212T082837Z
LAST-MODIFIED:20251222T101142Z
UID:16571-1768327200-1768332600@milmadrid.es
SUMMARY:IA para profesores: creación de aplicaciones y webs docentes sin saber una sola línea de código
DESCRIPTION:Cómo integrar con éxito la IA en la cultura empresarial				\n				\n					\n		\n					\n		\n				\n						\n					\n			\n						\n				\n									La adopción de la inteligencia artificial en las organizaciones no es solo una cuestión tecnológica\, sino también cultural. Integrarla con éxito implica transformar la forma de trabajar\, tomar decisiones y desarrollar talento dentro de la empresa. En esta sesión en el Madrid Innovation Lab\, exploraremos cómo incorporar la IA de manera estratégica\, ética y alineada con la realidad operativa de las organizaciones. Una jornada práctica orientada a ayudar a empresas y equipos a dar el paso desde la experimentación hacia una adopción estructurada y sostenible. Qué podrás aprenderDurante la sesión se abordarán los principales retos y oportunidades en la integración de la IA en la cultura empresarial: Cómo definir casos de uso relevantes y aplicables al negocio.Estrategias para integrar la IA en los flujos de trabajo reales.El impacto en roles\, habilidades y productividad de los equipos.Cómo gestionar barreras culturales como la resistencia al cambio o el miedo.Claves para establecer políticas y criterios éticos en el uso de la IA.Cómo medir resultados y avanzar hacia una adopción efectiva.La jornada incluirá además dinámicas prácticas y espacios de intercambio entre participantes\, culminando en la elaboración de un plan de acción adaptado a la realidad de cada organización. PonenteLa sesión estará impartida por Eva Trueba\, Directora de Desarrollo de Negocio en Skiller Academy\, entidad especializada en formación y acompañamiento en competencias digitales y adopción de inteligencia artificial en empresas. 								\n				\n					\n		\n					\n		\n				\n						\n					\n			\n						\n				\n									¡Apúntatelo en la agenda!								\n				\n				\n				\n									📅 Fecha: viernes\, 8 de mayo de 2026 ⏰ Horario: 10:30 – 13:30 h. 📍 Ubicación: Madrid Innovation Lab (MIL). C/ Bravo Murillo 37-39 								\n				\n					\n		\n					\n		\n				\n						\n					\n			\n						\n				\n									\n					\n						\n									Inscríbete aquí
URL:https://milmadrid.es/event/ia-para-profesores-creacion-de-aplicaciones-y-webs-docentes-sin-saber-una-sola-linea-de-codigo/
LOCATION:Madrid Innovation Lab\, Calle Bravo Murillo 37-39\, Madrid\, 28080\, España
CATEGORIES:Público Especializado
ATTACH;FMTTYPE=image/png:https://milmadrid.es/wp-content/uploads/2025/12/13012026-2.png
END:VEVENT
BEGIN:VEVENT
DTSTART;TZID=Europe/Madrid:20260114T170000
DTEND;TZID=Europe/Madrid:20260114T190000
DTSTAMP:20260421T165727
CREATED:20251219T101817Z
LAST-MODIFIED:20251222T164731Z
UID:16609-1768410000-1768417200@milmadrid.es
SUMMARY:Taller de sensibilización en Compra Pública Innovadora para startups
DESCRIPTION:Cómo integrar con éxito la IA en la cultura empresarial				\n				\n					\n		\n					\n		\n				\n						\n					\n			\n						\n				\n									La adopción de la inteligencia artificial en las organizaciones no es solo una cuestión tecnológica\, sino también cultural. Integrarla con éxito implica transformar la forma de trabajar\, tomar decisiones y desarrollar talento dentro de la empresa. En esta sesión en el Madrid Innovation Lab\, exploraremos cómo incorporar la IA de manera estratégica\, ética y alineada con la realidad operativa de las organizaciones. Una jornada práctica orientada a ayudar a empresas y equipos a dar el paso desde la experimentación hacia una adopción estructurada y sostenible. Qué podrás aprenderDurante la sesión se abordarán los principales retos y oportunidades en la integración de la IA en la cultura empresarial: Cómo definir casos de uso relevantes y aplicables al negocio.Estrategias para integrar la IA en los flujos de trabajo reales.El impacto en roles\, habilidades y productividad de los equipos.Cómo gestionar barreras culturales como la resistencia al cambio o el miedo.Claves para establecer políticas y criterios éticos en el uso de la IA.Cómo medir resultados y avanzar hacia una adopción efectiva.La jornada incluirá además dinámicas prácticas y espacios de intercambio entre participantes\, culminando en la elaboración de un plan de acción adaptado a la realidad de cada organización. PonenteLa sesión estará impartida por Eva Trueba\, Directora de Desarrollo de Negocio en Skiller Academy\, entidad especializada en formación y acompañamiento en competencias digitales y adopción de inteligencia artificial en empresas. 								\n				\n					\n		\n					\n		\n				\n						\n					\n			\n						\n				\n									¡Apúntatelo en la agenda!								\n				\n				\n				\n									📅 Fecha: viernes\, 8 de mayo de 2026 ⏰ Horario: 10:30 – 13:30 h. 📍 Ubicación: Madrid Innovation Lab (MIL). C/ Bravo Murillo 37-39 								\n				\n					\n		\n					\n		\n				\n						\n					\n			\n						\n				\n									\n					\n						\n									Inscríbete aquí
URL:https://milmadrid.es/event/taller-de-sensibilizacion-en-compra-publica-innovadora-para-startups/
CATEGORIES:Público Especializado
ATTACH;FMTTYPE=image/jpeg:https://milmadrid.es/wp-content/uploads/2025/12/Link-y-Twitter-Talleres-Cpi-OK-1.jpg
END:VEVENT
BEGIN:VEVENT
DTSTART;TZID=Europe/Madrid:20260116T180000
DTEND;TZID=Europe/Madrid:20260116T200000
DTSTAMP:20260421T165727
CREATED:20260112T084658Z
LAST-MODIFIED:20260112T085020Z
UID:16929-1768586400-1768593600@milmadrid.es
SUMMARY:Introducción a la creación de agentes IA
DESCRIPTION:Cómo integrar con éxito la IA en la cultura empresarial				\n				\n					\n		\n					\n		\n				\n						\n					\n			\n						\n				\n									La adopción de la inteligencia artificial en las organizaciones no es solo una cuestión tecnológica\, sino también cultural. Integrarla con éxito implica transformar la forma de trabajar\, tomar decisiones y desarrollar talento dentro de la empresa. En esta sesión en el Madrid Innovation Lab\, exploraremos cómo incorporar la IA de manera estratégica\, ética y alineada con la realidad operativa de las organizaciones. Una jornada práctica orientada a ayudar a empresas y equipos a dar el paso desde la experimentación hacia una adopción estructurada y sostenible. Qué podrás aprenderDurante la sesión se abordarán los principales retos y oportunidades en la integración de la IA en la cultura empresarial: Cómo definir casos de uso relevantes y aplicables al negocio.Estrategias para integrar la IA en los flujos de trabajo reales.El impacto en roles\, habilidades y productividad de los equipos.Cómo gestionar barreras culturales como la resistencia al cambio o el miedo.Claves para establecer políticas y criterios éticos en el uso de la IA.Cómo medir resultados y avanzar hacia una adopción efectiva.La jornada incluirá además dinámicas prácticas y espacios de intercambio entre participantes\, culminando en la elaboración de un plan de acción adaptado a la realidad de cada organización. PonenteLa sesión estará impartida por Eva Trueba\, Directora de Desarrollo de Negocio en Skiller Academy\, entidad especializada en formación y acompañamiento en competencias digitales y adopción de inteligencia artificial en empresas. 								\n				\n					\n		\n					\n		\n				\n						\n					\n			\n						\n				\n									¡Apúntatelo en la agenda!								\n				\n				\n				\n									📅 Fecha: viernes\, 8 de mayo de 2026 ⏰ Horario: 10:30 – 13:30 h. 📍 Ubicación: Madrid Innovation Lab (MIL). C/ Bravo Murillo 37-39 								\n				\n					\n		\n					\n		\n				\n						\n					\n			\n						\n				\n									\n					\n						\n									Inscríbete aquí
URL:https://milmadrid.es/event/introduccion-a-la-creacion-de-agentes-ia/
LOCATION:Madrid Innovation Lab\, Calle Bravo Murillo 37-39\, Madrid\, 28080\, España
CATEGORIES:Público General
ATTACH;FMTTYPE=image/png:https://milmadrid.es/wp-content/uploads/2026/01/16012026.png
END:VEVENT
BEGIN:VEVENT
DTSTART;TZID=Europe/Madrid:20260120T170000
DTEND;TZID=Europe/Madrid:20260120T193000
DTSTAMP:20260421T165727
CREATED:20260112T091127Z
LAST-MODIFIED:20260114T091058Z
UID:16935-1768928400-1768937400@milmadrid.es
SUMMARY:Bienestar Inteligente: Innovación y Deeptech aplicada al cuidado
DESCRIPTION:Cómo integrar con éxito la IA en la cultura empresarial				\n				\n					\n		\n					\n		\n				\n						\n					\n			\n						\n				\n									La adopción de la inteligencia artificial en las organizaciones no es solo una cuestión tecnológica\, sino también cultural. Integrarla con éxito implica transformar la forma de trabajar\, tomar decisiones y desarrollar talento dentro de la empresa. En esta sesión en el Madrid Innovation Lab\, exploraremos cómo incorporar la IA de manera estratégica\, ética y alineada con la realidad operativa de las organizaciones. Una jornada práctica orientada a ayudar a empresas y equipos a dar el paso desde la experimentación hacia una adopción estructurada y sostenible. Qué podrás aprenderDurante la sesión se abordarán los principales retos y oportunidades en la integración de la IA en la cultura empresarial: Cómo definir casos de uso relevantes y aplicables al negocio.Estrategias para integrar la IA en los flujos de trabajo reales.El impacto en roles\, habilidades y productividad de los equipos.Cómo gestionar barreras culturales como la resistencia al cambio o el miedo.Claves para establecer políticas y criterios éticos en el uso de la IA.Cómo medir resultados y avanzar hacia una adopción efectiva.La jornada incluirá además dinámicas prácticas y espacios de intercambio entre participantes\, culminando en la elaboración de un plan de acción adaptado a la realidad de cada organización. PonenteLa sesión estará impartida por Eva Trueba\, Directora de Desarrollo de Negocio en Skiller Academy\, entidad especializada en formación y acompañamiento en competencias digitales y adopción de inteligencia artificial en empresas. 								\n				\n					\n		\n					\n		\n				\n						\n					\n			\n						\n				\n									¡Apúntatelo en la agenda!								\n				\n				\n				\n									📅 Fecha: viernes\, 8 de mayo de 2026 ⏰ Horario: 10:30 – 13:30 h. 📍 Ubicación: Madrid Innovation Lab (MIL). C/ Bravo Murillo 37-39 								\n				\n					\n		\n					\n		\n				\n						\n					\n			\n						\n				\n									\n					\n						\n									Inscríbete aquí
URL:https://milmadrid.es/event/bienestar-inteligente-innovacion-y-deeptech-aplicada-al-cuidado/
LOCATION:Madrid Innovation Lab\, Calle Bravo Murillo 37-39\, Madrid\, 28080\, España
CATEGORIES:Público Especializado
ATTACH;FMTTYPE=image/png:https://milmadrid.es/wp-content/uploads/2026/01/20012026-1-1.png
END:VEVENT
BEGIN:VEVENT
DTSTART;TZID=Europe/Madrid:20260121T183000
DTEND;TZID=Europe/Madrid:20260121T200000
DTSTAMP:20260421T165727
CREATED:20260112T092531Z
LAST-MODIFIED:20260114T164347Z
UID:16941-1769020200-1769025600@milmadrid.es
SUMMARY:Physically based simulation with 3D Gaussian Splatting
DESCRIPTION:Cómo integrar con éxito la IA en la cultura empresarial				\n				\n					\n		\n					\n		\n				\n						\n					\n			\n						\n				\n									La adopción de la inteligencia artificial en las organizaciones no es solo una cuestión tecnológica\, sino también cultural. Integrarla con éxito implica transformar la forma de trabajar\, tomar decisiones y desarrollar talento dentro de la empresa. En esta sesión en el Madrid Innovation Lab\, exploraremos cómo incorporar la IA de manera estratégica\, ética y alineada con la realidad operativa de las organizaciones. Una jornada práctica orientada a ayudar a empresas y equipos a dar el paso desde la experimentación hacia una adopción estructurada y sostenible. Qué podrás aprenderDurante la sesión se abordarán los principales retos y oportunidades en la integración de la IA en la cultura empresarial: Cómo definir casos de uso relevantes y aplicables al negocio.Estrategias para integrar la IA en los flujos de trabajo reales.El impacto en roles\, habilidades y productividad de los equipos.Cómo gestionar barreras culturales como la resistencia al cambio o el miedo.Claves para establecer políticas y criterios éticos en el uso de la IA.Cómo medir resultados y avanzar hacia una adopción efectiva.La jornada incluirá además dinámicas prácticas y espacios de intercambio entre participantes\, culminando en la elaboración de un plan de acción adaptado a la realidad de cada organización. PonenteLa sesión estará impartida por Eva Trueba\, Directora de Desarrollo de Negocio en Skiller Academy\, entidad especializada en formación y acompañamiento en competencias digitales y adopción de inteligencia artificial en empresas. 								\n				\n					\n		\n					\n		\n				\n						\n					\n			\n						\n				\n									¡Apúntatelo en la agenda!								\n				\n				\n				\n									📅 Fecha: viernes\, 8 de mayo de 2026 ⏰ Horario: 10:30 – 13:30 h. 📍 Ubicación: Madrid Innovation Lab (MIL). C/ Bravo Murillo 37-39 								\n				\n					\n		\n					\n		\n				\n						\n					\n			\n						\n				\n									\n					\n						\n									Inscríbete aquí
URL:https://milmadrid.es/event/physically-based-simulation-with-3d-gaussian-splatting/
LOCATION:Madrid Innovation Lab\, Calle Bravo Murillo 37-39\, Madrid\, 28080\, España
CATEGORIES:Casos de uso,Público Especializado
ATTACH;FMTTYPE=image/png:https://milmadrid.es/wp-content/uploads/2026/01/21012026.png
END:VEVENT
BEGIN:VEVENT
DTSTART;TZID=Europe/Madrid:20260123T160000
DTEND;TZID=Europe/Madrid:20260123T200000
DTSTAMP:20260421T165727
CREATED:20251222T113906Z
LAST-MODIFIED:20251223T120714Z
UID:16639-1769184000-1769198400@milmadrid.es
SUMMARY:MIL_Academy | 1. Diseño de la Estrategia IA: de la visión al roadmap
DESCRIPTION:Cómo integrar con éxito la IA en la cultura empresarial				\n				\n					\n		\n					\n		\n				\n						\n					\n			\n						\n				\n									La adopción de la inteligencia artificial en las organizaciones no es solo una cuestión tecnológica\, sino también cultural. Integrarla con éxito implica transformar la forma de trabajar\, tomar decisiones y desarrollar talento dentro de la empresa. En esta sesión en el Madrid Innovation Lab\, exploraremos cómo incorporar la IA de manera estratégica\, ética y alineada con la realidad operativa de las organizaciones. Una jornada práctica orientada a ayudar a empresas y equipos a dar el paso desde la experimentación hacia una adopción estructurada y sostenible. Qué podrás aprenderDurante la sesión se abordarán los principales retos y oportunidades en la integración de la IA en la cultura empresarial: Cómo definir casos de uso relevantes y aplicables al negocio.Estrategias para integrar la IA en los flujos de trabajo reales.El impacto en roles\, habilidades y productividad de los equipos.Cómo gestionar barreras culturales como la resistencia al cambio o el miedo.Claves para establecer políticas y criterios éticos en el uso de la IA.Cómo medir resultados y avanzar hacia una adopción efectiva.La jornada incluirá además dinámicas prácticas y espacios de intercambio entre participantes\, culminando en la elaboración de un plan de acción adaptado a la realidad de cada organización. PonenteLa sesión estará impartida por Eva Trueba\, Directora de Desarrollo de Negocio en Skiller Academy\, entidad especializada en formación y acompañamiento en competencias digitales y adopción de inteligencia artificial en empresas. 								\n				\n					\n		\n					\n		\n				\n						\n					\n			\n						\n				\n									¡Apúntatelo en la agenda!								\n				\n				\n				\n									📅 Fecha: viernes\, 8 de mayo de 2026 ⏰ Horario: 10:30 – 13:30 h. 📍 Ubicación: Madrid Innovation Lab (MIL). C/ Bravo Murillo 37-39 								\n				\n					\n		\n					\n		\n				\n						\n					\n			\n						\n				\n									\n					\n						\n									Inscríbete aquí
URL:https://milmadrid.es/event/mil_academy-1-diseno-de-la-estrategia-ia-de-la-vision-al-roadmap/
LOCATION:Madrid Innovation Lab\, Calle Bravo Murillo 37-39\, Madrid\, 28080\, España
CATEGORIES:MIL Academy
ATTACH;FMTTYPE=image/png:https://milmadrid.es/wp-content/uploads/2025/12/MILacademy-1.png
END:VEVENT
BEGIN:VEVENT
DTSTART;TZID=Europe/Madrid:20260126T180000
DTEND;TZID=Europe/Madrid:20260126T200000
DTSTAMP:20260421T165727
CREATED:20260120T095340Z
LAST-MODIFIED:20260120T123335Z
UID:17132-1769450400-1769457600@milmadrid.es
SUMMARY:Mundos Digitales. AI Assemble
DESCRIPTION:Cómo integrar con éxito la IA en la cultura empresarial				\n				\n					\n		\n					\n		\n				\n						\n					\n			\n						\n				\n									La adopción de la inteligencia artificial en las organizaciones no es solo una cuestión tecnológica\, sino también cultural. Integrarla con éxito implica transformar la forma de trabajar\, tomar decisiones y desarrollar talento dentro de la empresa. En esta sesión en el Madrid Innovation Lab\, exploraremos cómo incorporar la IA de manera estratégica\, ética y alineada con la realidad operativa de las organizaciones. Una jornada práctica orientada a ayudar a empresas y equipos a dar el paso desde la experimentación hacia una adopción estructurada y sostenible. Qué podrás aprenderDurante la sesión se abordarán los principales retos y oportunidades en la integración de la IA en la cultura empresarial: Cómo definir casos de uso relevantes y aplicables al negocio.Estrategias para integrar la IA en los flujos de trabajo reales.El impacto en roles\, habilidades y productividad de los equipos.Cómo gestionar barreras culturales como la resistencia al cambio o el miedo.Claves para establecer políticas y criterios éticos en el uso de la IA.Cómo medir resultados y avanzar hacia una adopción efectiva.La jornada incluirá además dinámicas prácticas y espacios de intercambio entre participantes\, culminando en la elaboración de un plan de acción adaptado a la realidad de cada organización. PonenteLa sesión estará impartida por Eva Trueba\, Directora de Desarrollo de Negocio en Skiller Academy\, entidad especializada en formación y acompañamiento en competencias digitales y adopción de inteligencia artificial en empresas. 								\n				\n					\n		\n					\n		\n				\n						\n					\n			\n						\n				\n									¡Apúntatelo en la agenda!								\n				\n				\n				\n									📅 Fecha: viernes\, 8 de mayo de 2026 ⏰ Horario: 10:30 – 13:30 h. 📍 Ubicación: Madrid Innovation Lab (MIL). C/ Bravo Murillo 37-39 								\n				\n					\n		\n					\n		\n				\n						\n					\n			\n						\n				\n									\n					\n						\n									Inscríbete aquí
URL:https://milmadrid.es/event/mundos-digitales-ai-assemble/
LOCATION:Madrid Innovation Lab\, Calle Bravo Murillo 37-39\, Madrid\, 28080\, España
CATEGORIES:Público General
ATTACH;FMTTYPE=image/png:https://milmadrid.es/wp-content/uploads/2026/01/26012026-2.png
END:VEVENT
BEGIN:VEVENT
DTSTART;TZID=Europe/Madrid:20260127T180000
DTEND;TZID=Europe/Madrid:20260127T200000
DTSTAMP:20260421T165727
CREATED:20260120T100449Z
LAST-MODIFIED:20260120T100605Z
UID:17140-1769536800-1769544000@milmadrid.es
SUMMARY:Uni Summit
DESCRIPTION:Cómo integrar con éxito la IA en la cultura empresarial				\n				\n					\n		\n					\n		\n				\n						\n					\n			\n						\n				\n									La adopción de la inteligencia artificial en las organizaciones no es solo una cuestión tecnológica\, sino también cultural. Integrarla con éxito implica transformar la forma de trabajar\, tomar decisiones y desarrollar talento dentro de la empresa. En esta sesión en el Madrid Innovation Lab\, exploraremos cómo incorporar la IA de manera estratégica\, ética y alineada con la realidad operativa de las organizaciones. Una jornada práctica orientada a ayudar a empresas y equipos a dar el paso desde la experimentación hacia una adopción estructurada y sostenible. Qué podrás aprenderDurante la sesión se abordarán los principales retos y oportunidades en la integración de la IA en la cultura empresarial: Cómo definir casos de uso relevantes y aplicables al negocio.Estrategias para integrar la IA en los flujos de trabajo reales.El impacto en roles\, habilidades y productividad de los equipos.Cómo gestionar barreras culturales como la resistencia al cambio o el miedo.Claves para establecer políticas y criterios éticos en el uso de la IA.Cómo medir resultados y avanzar hacia una adopción efectiva.La jornada incluirá además dinámicas prácticas y espacios de intercambio entre participantes\, culminando en la elaboración de un plan de acción adaptado a la realidad de cada organización. PonenteLa sesión estará impartida por Eva Trueba\, Directora de Desarrollo de Negocio en Skiller Academy\, entidad especializada en formación y acompañamiento en competencias digitales y adopción de inteligencia artificial en empresas. 								\n				\n					\n		\n					\n		\n				\n						\n					\n			\n						\n				\n									¡Apúntatelo en la agenda!								\n				\n				\n				\n									📅 Fecha: viernes\, 8 de mayo de 2026 ⏰ Horario: 10:30 – 13:30 h. 📍 Ubicación: Madrid Innovation Lab (MIL). C/ Bravo Murillo 37-39 								\n				\n					\n		\n					\n		\n				\n						\n					\n			\n						\n				\n									\n					\n						\n									Inscríbete aquí
URL:https://milmadrid.es/event/uni-summit/
LOCATION:Madrid Innovation Lab\, Calle Bravo Murillo 37-39\, Madrid\, 28080\, España
CATEGORIES:Público Especializado
ATTACH;FMTTYPE=image/png:https://milmadrid.es/wp-content/uploads/2026/01/27012026.png
END:VEVENT
BEGIN:VEVENT
DTSTART;TZID=Europe/Madrid:20260130T163000
DTEND;TZID=Europe/Madrid:20260130T193000
DTSTAMP:20260421T165727
CREATED:20260112T101509Z
LAST-MODIFIED:20260112T101841Z
UID:16948-1769790600-1769801400@milmadrid.es
SUMMARY:Innovación tecnológica en el sector de la belleza y el bienestar | Formación para emprendedores
DESCRIPTION:Cómo integrar con éxito la IA en la cultura empresarial				\n				\n					\n		\n					\n		\n				\n						\n					\n			\n						\n				\n									La adopción de la inteligencia artificial en las organizaciones no es solo una cuestión tecnológica\, sino también cultural. Integrarla con éxito implica transformar la forma de trabajar\, tomar decisiones y desarrollar talento dentro de la empresa. En esta sesión en el Madrid Innovation Lab\, exploraremos cómo incorporar la IA de manera estratégica\, ética y alineada con la realidad operativa de las organizaciones. Una jornada práctica orientada a ayudar a empresas y equipos a dar el paso desde la experimentación hacia una adopción estructurada y sostenible. Qué podrás aprenderDurante la sesión se abordarán los principales retos y oportunidades en la integración de la IA en la cultura empresarial: Cómo definir casos de uso relevantes y aplicables al negocio.Estrategias para integrar la IA en los flujos de trabajo reales.El impacto en roles\, habilidades y productividad de los equipos.Cómo gestionar barreras culturales como la resistencia al cambio o el miedo.Claves para establecer políticas y criterios éticos en el uso de la IA.Cómo medir resultados y avanzar hacia una adopción efectiva.La jornada incluirá además dinámicas prácticas y espacios de intercambio entre participantes\, culminando en la elaboración de un plan de acción adaptado a la realidad de cada organización. PonenteLa sesión estará impartida por Eva Trueba\, Directora de Desarrollo de Negocio en Skiller Academy\, entidad especializada en formación y acompañamiento en competencias digitales y adopción de inteligencia artificial en empresas. 								\n				\n					\n		\n					\n		\n				\n						\n					\n			\n						\n				\n									¡Apúntatelo en la agenda!								\n				\n				\n				\n									📅 Fecha: viernes\, 8 de mayo de 2026 ⏰ Horario: 10:30 – 13:30 h. 📍 Ubicación: Madrid Innovation Lab (MIL). C/ Bravo Murillo 37-39 								\n				\n					\n		\n					\n		\n				\n						\n					\n			\n						\n				\n									\n					\n						\n									Inscríbete aquí
URL:https://milmadrid.es/event/innovacion-tecnologica-en-el-sector-de-la-belleza-y-el-bienestar-formacion-para-emprendedores/
LOCATION:Madrid Innovation Lab\, Calle Bravo Murillo 37-39\, Madrid\, 28080\, España
CATEGORIES:Público Especializado
ATTACH;FMTTYPE=image/png:https://milmadrid.es/wp-content/uploads/2026/01/30012026-.png
END:VEVENT
END:VCALENDAR