BEGIN:VCALENDAR
VERSION:2.0
PRODID:-//MIL Madrid - ECPv6.15.20//NONSGML v1.0//EN
CALSCALE:GREGORIAN
METHOD:PUBLISH
X-ORIGINAL-URL:https://milmadrid.es
X-WR-CALDESC:Eventos para MIL Madrid
REFRESH-INTERVAL;VALUE=DURATION:PT1H
X-Robots-Tag:noindex
X-PUBLISHED-TTL:PT1H
BEGIN:VTIMEZONE
TZID:UTC
BEGIN:STANDARD
TZOFFSETFROM:+0000
TZOFFSETTO:+0000
TZNAME:UTC
DTSTART:20240101T000000
END:STANDARD
END:VTIMEZONE
BEGIN:VEVENT
DTSTART;TZID=UTC:20250623T160000
DTEND;TZID=UTC:20250711T200000
DTSTAMP:20260422T045138
CREATED:20250429T102955Z
LAST-MODIFIED:20250609T072823Z
UID:13717-1750694400-1752264000@milmadrid.es
SUMMARY:AI Summer Camp 2025
DESCRIPTION:Cómo integrar con éxito la IA en la cultura empresarial				\n				\n					\n		\n					\n		\n				\n						\n					\n			\n						\n				\n									La adopción de la inteligencia artificial en las organizaciones no es solo una cuestión tecnológica\, sino también cultural. Integrarla con éxito implica transformar la forma de trabajar\, tomar decisiones y desarrollar talento dentro de la empresa. En esta sesión en el Madrid Innovation Lab\, exploraremos cómo incorporar la IA de manera estratégica\, ética y alineada con la realidad operativa de las organizaciones. Una jornada práctica orientada a ayudar a empresas y equipos a dar el paso desde la experimentación hacia una adopción estructurada y sostenible. Qué podrás aprenderDurante la sesión se abordarán los principales retos y oportunidades en la integración de la IA en la cultura empresarial: Cómo definir casos de uso relevantes y aplicables al negocio.Estrategias para integrar la IA en los flujos de trabajo reales.El impacto en roles\, habilidades y productividad de los equipos.Cómo gestionar barreras culturales como la resistencia al cambio o el miedo.Claves para establecer políticas y criterios éticos en el uso de la IA.Cómo medir resultados y avanzar hacia una adopción efectiva.La jornada incluirá además dinámicas prácticas y espacios de intercambio entre participantes\, culminando en la elaboración de un plan de acción adaptado a la realidad de cada organización. PonenteLa sesión estará impartida por Eva Trueba\, Directora de Desarrollo de Negocio en Skiller Academy\, entidad especializada en formación y acompañamiento en competencias digitales y adopción de inteligencia artificial en empresas. 								\n				\n					\n		\n					\n		\n				\n						\n					\n			\n						\n				\n									¡Apúntatelo en la agenda!								\n				\n				\n				\n									📅 Fecha: viernes\, 8 de mayo de 2026 ⏰ Horario: 10:30 – 13:30 h. 📍 Ubicación: Madrid Innovation Lab (MIL). C/ Bravo Murillo 37-39 								\n				\n					\n		\n					\n		\n				\n						\n					\n			\n						\n				\n									\n					\n						\n									Inscríbete aquí
URL:https://milmadrid.es/event/ai-summer-camp-2025/
LOCATION:Madrid Innovation Lab\, Calle Bravo Murillo 37-39\, Madrid\, 28080\, España
CATEGORIES:Público General
ATTACH;FMTTYPE=image/png:https://milmadrid.es/wp-content/uploads/2025/04/SUMMER-CAMP-Agenda-eventos.png
END:VEVENT
BEGIN:VEVENT
DTSTART;TZID=UTC:20250701T100000
DTEND;TZID=UTC:20250702T140000
DTSTAMP:20260422T045138
CREATED:20250602T133654Z
LAST-MODIFIED:20250602T134242Z
UID:14792-1751364000-1751464800@milmadrid.es
SUMMARY:Regreso al futuro: un viaje por la IA generativa en educación
DESCRIPTION:Cómo integrar con éxito la IA en la cultura empresarial				\n				\n					\n		\n					\n		\n				\n						\n					\n			\n						\n				\n									La adopción de la inteligencia artificial en las organizaciones no es solo una cuestión tecnológica\, sino también cultural. Integrarla con éxito implica transformar la forma de trabajar\, tomar decisiones y desarrollar talento dentro de la empresa. En esta sesión en el Madrid Innovation Lab\, exploraremos cómo incorporar la IA de manera estratégica\, ética y alineada con la realidad operativa de las organizaciones. Una jornada práctica orientada a ayudar a empresas y equipos a dar el paso desde la experimentación hacia una adopción estructurada y sostenible. Qué podrás aprenderDurante la sesión se abordarán los principales retos y oportunidades en la integración de la IA en la cultura empresarial: Cómo definir casos de uso relevantes y aplicables al negocio.Estrategias para integrar la IA en los flujos de trabajo reales.El impacto en roles\, habilidades y productividad de los equipos.Cómo gestionar barreras culturales como la resistencia al cambio o el miedo.Claves para establecer políticas y criterios éticos en el uso de la IA.Cómo medir resultados y avanzar hacia una adopción efectiva.La jornada incluirá además dinámicas prácticas y espacios de intercambio entre participantes\, culminando en la elaboración de un plan de acción adaptado a la realidad de cada organización. PonenteLa sesión estará impartida por Eva Trueba\, Directora de Desarrollo de Negocio en Skiller Academy\, entidad especializada en formación y acompañamiento en competencias digitales y adopción de inteligencia artificial en empresas. 								\n				\n					\n		\n					\n		\n				\n						\n					\n			\n						\n				\n									¡Apúntatelo en la agenda!								\n				\n				\n				\n									📅 Fecha: viernes\, 8 de mayo de 2026 ⏰ Horario: 10:30 – 13:30 h. 📍 Ubicación: Madrid Innovation Lab (MIL). C/ Bravo Murillo 37-39 								\n				\n					\n		\n					\n		\n				\n						\n					\n			\n						\n				\n									\n					\n						\n									Inscríbete aquí
URL:https://milmadrid.es/event/regreso-al-futuro-un-viaje-por-la-ia-generativa-en-educacion/
LOCATION:Madrid Innovation Lab\, Calle Bravo Murillo 37-39\, Madrid\, 28080\, España
CATEGORIES:Público General
ATTACH;FMTTYPE=image/png:https://milmadrid.es/wp-content/uploads/2025/06/01072025.png
END:VEVENT
BEGIN:VEVENT
DTSTART;TZID=UTC:20250711T090000
DTEND;TZID=UTC:20250711T120000
DTSTAMP:20260422T045138
CREATED:20250626T133436Z
LAST-MODIFIED:20250626T133802Z
UID:15068-1752224400-1752235200@milmadrid.es
SUMMARY:Procurement Data Governance: retos y casos de uso para la compartición segura de datos en compras
DESCRIPTION:Cómo integrar con éxito la IA en la cultura empresarial				\n				\n					\n		\n					\n		\n				\n						\n					\n			\n						\n				\n									La adopción de la inteligencia artificial en las organizaciones no es solo una cuestión tecnológica\, sino también cultural. Integrarla con éxito implica transformar la forma de trabajar\, tomar decisiones y desarrollar talento dentro de la empresa. En esta sesión en el Madrid Innovation Lab\, exploraremos cómo incorporar la IA de manera estratégica\, ética y alineada con la realidad operativa de las organizaciones. Una jornada práctica orientada a ayudar a empresas y equipos a dar el paso desde la experimentación hacia una adopción estructurada y sostenible. Qué podrás aprenderDurante la sesión se abordarán los principales retos y oportunidades en la integración de la IA en la cultura empresarial: Cómo definir casos de uso relevantes y aplicables al negocio.Estrategias para integrar la IA en los flujos de trabajo reales.El impacto en roles\, habilidades y productividad de los equipos.Cómo gestionar barreras culturales como la resistencia al cambio o el miedo.Claves para establecer políticas y criterios éticos en el uso de la IA.Cómo medir resultados y avanzar hacia una adopción efectiva.La jornada incluirá además dinámicas prácticas y espacios de intercambio entre participantes\, culminando en la elaboración de un plan de acción adaptado a la realidad de cada organización. PonenteLa sesión estará impartida por Eva Trueba\, Directora de Desarrollo de Negocio en Skiller Academy\, entidad especializada en formación y acompañamiento en competencias digitales y adopción de inteligencia artificial en empresas. 								\n				\n					\n		\n					\n		\n				\n						\n					\n			\n						\n				\n									¡Apúntatelo en la agenda!								\n				\n				\n				\n									📅 Fecha: viernes\, 8 de mayo de 2026 ⏰ Horario: 10:30 – 13:30 h. 📍 Ubicación: Madrid Innovation Lab (MIL). C/ Bravo Murillo 37-39 								\n				\n					\n		\n					\n		\n				\n						\n					\n			\n						\n				\n									\n					\n						\n									Inscríbete aquí
URL:https://milmadrid.es/event/procurement-data-governance-retos-y-casos-de-uso-para-la-comparticion-segura-de-datos-en-compras/
LOCATION:Madrid Innovation Lab\, Calle Bravo Murillo 37-39\, Madrid\, 28080\, España
ATTACH;FMTTYPE=image/png:https://milmadrid.es/wp-content/uploads/2025/06/11072025.png
END:VEVENT
BEGIN:VEVENT
DTSTART;TZID=UTC:20250715T100000
DTEND;TZID=UTC:20250715T140000
DTSTAMP:20260422T045138
CREATED:20250704T074416Z
LAST-MODIFIED:20250707T095704Z
UID:15097-1752573600-1752588000@milmadrid.es
SUMMARY:Taller práctico de Microsoft Copilot para docentes
DESCRIPTION:Cómo integrar con éxito la IA en la cultura empresarial				\n				\n					\n		\n					\n		\n				\n						\n					\n			\n						\n				\n									La adopción de la inteligencia artificial en las organizaciones no es solo una cuestión tecnológica\, sino también cultural. Integrarla con éxito implica transformar la forma de trabajar\, tomar decisiones y desarrollar talento dentro de la empresa. En esta sesión en el Madrid Innovation Lab\, exploraremos cómo incorporar la IA de manera estratégica\, ética y alineada con la realidad operativa de las organizaciones. Una jornada práctica orientada a ayudar a empresas y equipos a dar el paso desde la experimentación hacia una adopción estructurada y sostenible. Qué podrás aprenderDurante la sesión se abordarán los principales retos y oportunidades en la integración de la IA en la cultura empresarial: Cómo definir casos de uso relevantes y aplicables al negocio.Estrategias para integrar la IA en los flujos de trabajo reales.El impacto en roles\, habilidades y productividad de los equipos.Cómo gestionar barreras culturales como la resistencia al cambio o el miedo.Claves para establecer políticas y criterios éticos en el uso de la IA.Cómo medir resultados y avanzar hacia una adopción efectiva.La jornada incluirá además dinámicas prácticas y espacios de intercambio entre participantes\, culminando en la elaboración de un plan de acción adaptado a la realidad de cada organización. PonenteLa sesión estará impartida por Eva Trueba\, Directora de Desarrollo de Negocio en Skiller Academy\, entidad especializada en formación y acompañamiento en competencias digitales y adopción de inteligencia artificial en empresas. 								\n				\n					\n		\n					\n		\n				\n						\n					\n			\n						\n				\n									¡Apúntatelo en la agenda!								\n				\n				\n				\n									📅 Fecha: viernes\, 8 de mayo de 2026 ⏰ Horario: 10:30 – 13:30 h. 📍 Ubicación: Madrid Innovation Lab (MIL). C/ Bravo Murillo 37-39 								\n				\n					\n		\n					\n		\n				\n						\n					\n			\n						\n				\n									\n					\n						\n									Inscríbete aquí
URL:https://milmadrid.es/event/taller-practico-de-microsoft-copilot-para-docentes/
LOCATION:Madrid Innovation Lab\, Calle Bravo Murillo 37-39\, Madrid\, 28080\, España
ATTACH;FMTTYPE=image/png:https://milmadrid.es/wp-content/uploads/2025/07/15072025.png
END:VEVENT
BEGIN:VEVENT
DTSTART;TZID=UTC:20250718T140000
DTEND;TZID=UTC:20250718T200000
DTSTAMP:20260422T045138
CREATED:20250630T132701Z
LAST-MODIFIED:20250630T132820Z
UID:15080-1752847200-1752868800@milmadrid.es
SUMMARY:La Vida Crypto x Crypto Days
DESCRIPTION:Cómo integrar con éxito la IA en la cultura empresarial				\n				\n					\n		\n					\n		\n				\n						\n					\n			\n						\n				\n									La adopción de la inteligencia artificial en las organizaciones no es solo una cuestión tecnológica\, sino también cultural. Integrarla con éxito implica transformar la forma de trabajar\, tomar decisiones y desarrollar talento dentro de la empresa. En esta sesión en el Madrid Innovation Lab\, exploraremos cómo incorporar la IA de manera estratégica\, ética y alineada con la realidad operativa de las organizaciones. Una jornada práctica orientada a ayudar a empresas y equipos a dar el paso desde la experimentación hacia una adopción estructurada y sostenible. Qué podrás aprenderDurante la sesión se abordarán los principales retos y oportunidades en la integración de la IA en la cultura empresarial: Cómo definir casos de uso relevantes y aplicables al negocio.Estrategias para integrar la IA en los flujos de trabajo reales.El impacto en roles\, habilidades y productividad de los equipos.Cómo gestionar barreras culturales como la resistencia al cambio o el miedo.Claves para establecer políticas y criterios éticos en el uso de la IA.Cómo medir resultados y avanzar hacia una adopción efectiva.La jornada incluirá además dinámicas prácticas y espacios de intercambio entre participantes\, culminando en la elaboración de un plan de acción adaptado a la realidad de cada organización. PonenteLa sesión estará impartida por Eva Trueba\, Directora de Desarrollo de Negocio en Skiller Academy\, entidad especializada en formación y acompañamiento en competencias digitales y adopción de inteligencia artificial en empresas. 								\n				\n					\n		\n					\n		\n				\n						\n					\n			\n						\n				\n									¡Apúntatelo en la agenda!								\n				\n				\n				\n									📅 Fecha: viernes\, 8 de mayo de 2026 ⏰ Horario: 10:30 – 13:30 h. 📍 Ubicación: Madrid Innovation Lab (MIL). C/ Bravo Murillo 37-39 								\n				\n					\n		\n					\n		\n				\n						\n					\n			\n						\n				\n									\n					\n						\n									Inscríbete aquí
URL:https://milmadrid.es/event/la-vida-crypto-x-crypto-days/
LOCATION:Madrid Innovation Lab\, Calle Bravo Murillo 37-39\, Madrid\, 28080\, España
ATTACH;FMTTYPE=image/png:https://milmadrid.es/wp-content/uploads/2025/06/18072025.png
END:VEVENT
BEGIN:VEVENT
DTSTART;TZID=UTC:20250729T110000
DTEND;TZID=UTC:20250729T140000
DTSTAMP:20260422T045138
CREATED:20250630T133455Z
LAST-MODIFIED:20250702T112109Z
UID:15086-1753786800-1753797600@milmadrid.es
SUMMARY:Gestión de compras inteligentes
DESCRIPTION:Cómo integrar con éxito la IA en la cultura empresarial				\n				\n					\n		\n					\n		\n				\n						\n					\n			\n						\n				\n									La adopción de la inteligencia artificial en las organizaciones no es solo una cuestión tecnológica\, sino también cultural. Integrarla con éxito implica transformar la forma de trabajar\, tomar decisiones y desarrollar talento dentro de la empresa. En esta sesión en el Madrid Innovation Lab\, exploraremos cómo incorporar la IA de manera estratégica\, ética y alineada con la realidad operativa de las organizaciones. Una jornada práctica orientada a ayudar a empresas y equipos a dar el paso desde la experimentación hacia una adopción estructurada y sostenible. Qué podrás aprenderDurante la sesión se abordarán los principales retos y oportunidades en la integración de la IA en la cultura empresarial: Cómo definir casos de uso relevantes y aplicables al negocio.Estrategias para integrar la IA en los flujos de trabajo reales.El impacto en roles\, habilidades y productividad de los equipos.Cómo gestionar barreras culturales como la resistencia al cambio o el miedo.Claves para establecer políticas y criterios éticos en el uso de la IA.Cómo medir resultados y avanzar hacia una adopción efectiva.La jornada incluirá además dinámicas prácticas y espacios de intercambio entre participantes\, culminando en la elaboración de un plan de acción adaptado a la realidad de cada organización. PonenteLa sesión estará impartida por Eva Trueba\, Directora de Desarrollo de Negocio en Skiller Academy\, entidad especializada en formación y acompañamiento en competencias digitales y adopción de inteligencia artificial en empresas. 								\n				\n					\n		\n					\n		\n				\n						\n					\n			\n						\n				\n									¡Apúntatelo en la agenda!								\n				\n				\n				\n									📅 Fecha: viernes\, 8 de mayo de 2026 ⏰ Horario: 10:30 – 13:30 h. 📍 Ubicación: Madrid Innovation Lab (MIL). C/ Bravo Murillo 37-39 								\n				\n					\n		\n					\n		\n				\n						\n					\n			\n						\n				\n									\n					\n						\n									Inscríbete aquí
URL:https://milmadrid.es/event/gestion-de-compras-inteligentes/
LOCATION:Madrid Innovation Lab\, Calle Bravo Murillo 37-39\, Madrid\, 28080\, España
ATTACH;FMTTYPE=image/png:https://milmadrid.es/wp-content/uploads/2025/06/29072025.png
END:VEVENT
END:VCALENDAR