BEGIN:VCALENDAR
VERSION:2.0
PRODID:-//MIL Madrid - ECPv6.15.20//NONSGML v1.0//EN
CALSCALE:GREGORIAN
METHOD:PUBLISH
X-ORIGINAL-URL:https://milmadrid.es
X-WR-CALDESC:Eventos para MIL Madrid
REFRESH-INTERVAL;VALUE=DURATION:PT1H
X-Robots-Tag:noindex
X-PUBLISHED-TTL:PT1H
BEGIN:VTIMEZONE
TZID:UTC
BEGIN:STANDARD
TZOFFSETFROM:+0000
TZOFFSETTO:+0000
TZNAME:UTC
DTSTART:20230101T000000
END:STANDARD
END:VTIMEZONE
BEGIN:VEVENT
DTSTART;TZID=UTC:20240125T170000
DTEND;TZID=UTC:20240125T193000
DTSTAMP:20260424T173328
CREATED:20240112T124518Z
LAST-MODIFIED:20240112T124518Z
UID:8280-1706202000-1706211000@milmadrid.es
SUMMARY:Deep tech talks - Blockchain
DESCRIPTION:Deep Tech Talks: BLOCKCHAIN COMO TECNOLOGÍA TRANSFORMADORA  \n\nLugar: Madrid Innovation Lab\nFecha: 25 / 01 / 2024\nHora: 17.00 h\nModalidad: Presencial y online\nDuración: 2\,5 – 3 horas\n\n  \nMadrid Innovation Lab tiene el placer de presentar Deep Tech Talks\, una serie vanguardista de eventos que exploran el fascinante mundo de la tecnología. La primera edición\, centrada en Blockchain\, se llevará a cabo el 25 de enero de 2024 a las 17:00h en nuestras instalaciones del MIL. Este evento marca el inicio de una serie de encuentros mensuales\, cada uno dedicado a un bloque temático específico: blockchain\, inteligencia artificial\, aeroespacial e identidad digital. La jornada inaugural se sumerge en la tecnología Blockchain\, explorando su impacto transformador en industrias y paradigmas. \nDescripción del Evento:  \nÚnete a nosotros para un ciclo de ponencias con cinco destacados expertos en la materia. Cada charla\, de 20 minutos\, será seguida por una sesión de 10 minutos para preguntas y comentarios del público\, asegurando una experiencia interactiva e informativa. Al finalizar las presentaciones\, te invitamos a un cóctel a partir de las 19:15 horas\, propiciando el networking y la colaboración entre profesionales y entusiastas de la tecnología. Descubre el potencial transformador de la tecnología Blockchain y cómo está dando forma al futuro. \n  \nPonentes: \n\nAlberto Fernández: Co-Fundador de Nex23 | Web3 Engineer | Draper Univ Hero. Con más de una década de experiencia en blockchain\, Alberto es pionero en el ámbito\, colaborando en el desarrollo del primer protocolo Proof-of-Stake en 2013. Ingeniero Superior de Telecomunicaciones\, ha impartido clases en instituciones como IEB\, Universidad de Oxford e ISDI. Su enfoque actual es democratizar el conocimiento en blockchain\, facilitando la comprensión y adopción de estas tecnologías.\n\n\nCarlos Fernández: Cofundador y COO de Tritemius y profesor del IEB. Doctor en Economía con más de 20 años de experiencia en la industria financiera. Experto en activos digitales\, tokenización\, CBDCs y stable coins. Fundador de Tritemius\, una firma que impulsa el emprendimiento e innovación empresarial mediante estrategias Web3 y la inversión en activos digitales.\n\n\nJesús Pérez: Director del Digital Assets Institute. Fundador de Crypto Plaza y Director de Roble Venture Capital. Especialista en valoración de activos digitales y director de desarrollo de Sersan Sistemas. Miembro del consejo de Civeta Investment. Profesor del Programa Directivo en Innovación y Tecnología Financiera del IEB.\n\n\nJoaquim Matinero: Abogado Bancario-Financiero & Blockchain. Abogado con experiencia en derecho bancario\, financiero\, capital riesgo\, mercado de valores derivados y tecnologías emergentes como Fintech\, Blockchain y eSports.\n\n\nDaniel Díez: Head of Innovation Accenture y experto en activos digitales. Responsable de Innovación en Accenture para España\, Portugal\, Andorra e Israel\, posee más de 12 años de experiencia en activos digitales. Cofundador de empresas como Bit2Me y Furai Group\, también ha sido advisor y profesor en instituciones renombradas\, además de coautor del bestseller ‘Blockchain\, la Revolución Industrial de Internet\n\nÚnete a nosotros en este evento transformador para explorar el futuro de Blockchain y su impacto en la innovación tecnológica. Si estás interesado en participar\, inscríbete aquí.
URL:https://milmadrid.es/event/deep-tech-talks-blockchain/
CATEGORIES:Público Especializado
ATTACH;FMTTYPE=image/jpeg:https://milmadrid.es/wp-content/uploads/2024/01/BLOCKCHAIN-CREATIVIDAD-9.jpg
END:VEVENT
BEGIN:VEVENT
DTSTART;TZID=UTC:20240124T100000
DTEND;TZID=UTC:20240124T120000
DTSTAMP:20260424T173328
CREATED:20240117T090127Z
LAST-MODIFIED:20240118T084720Z
UID:8290-1706090400-1706097600@milmadrid.es
SUMMARY:GreemKo DEMO DAY
DESCRIPTION:  \n\nLugar: Madrid Innovation Lab\nFecha: 24 / 01 / 2024\nHora: 10.00 h\nModalidad: Presencial y online\nDuración: 1\,5  horas\n\nMadrid Innovation Lab nació con el propósito de centralizar todas las acciones relacionadas con las expectativas de la iniciativa desde desarrollar eventos\, reuniones\, mesas redondas\, charlas informativas\, a otras acciones que permitan profundizar en el apoyo al fomento de este sector. En este caso\, el MIL pretende propiciar que terceras empresas se interesen por el proyecto que se presentará\, además de colaborar con el ecosistema tecnológico y ayudar a estas tecnologías disruptivas a posicionarse en el mercado. \nDescripción del evento:  \nLa empresa Greemko Sistemas y Gestión Ambiental presenta en el centro Madrid Innovation Lab (MIL) los resultados del caso de uso denominado “Cálculo y etiquetado\, con blockchain\, de la huella de carbono del Centro de Innovación de Economía Circular CIEC y de los servicios que presta”. \nEntre las actividades que desarrolla el centro MIL para la promoción de las tecnologías disruptivas\, está el desarrollo de cuatro proyectos piloto al año que incorporan IA y otras tecnologías avanzadas. Estos proyectos que incorporan inteligencia artificial y otras tecnologías avanzadas son probados\, mediante su aplicación a situaciones reales con fines de demostración y validación\, denominados casos de uso. \nComo el paso hacia una sociedad baja en carbono influye cada vez más en las decisiones de los ciudadanos al contratar un servicio o adquirir un producto cuya huella de carbono sea lo más reducida posible\, se torna imprescindible identificar cada proceso involucrado en su fabricación y ciclo de vida completo para medir las emisiones de cada uno. \nEl proyecto piloto que presenta esta empresa es GreeMKO\, un software para que empresas de cualquier tamaño gestionen de forma activa su impacto ambiental\, incluida su huella de carbono completa con los alcances 1\, 2 y 3 (emisiones directas e indirectas). \nEscaleta del evento:  \n10.00-10.30h Recepción de invitados\n10.30-10.35h Bienvenida de Angel Niño\, Concejal delegado de Emprendimiento e Innovación\n10:35 – 11:10h Presentación del Caso de Uso\n11:10 – 11:30h Agradecimientos\n11:30 – 11:45 Networking
URL:https://milmadrid.es/event/greemko-demo-day/
CATEGORIES:Casos de uso
ATTACH;FMTTYPE=image/jpeg:https://milmadrid.es/wp-content/uploads/2024/01/SLIDE_CDU_GreeMKo_-1.jpg
END:VEVENT
BEGIN:VEVENT
DTSTART;TZID=UTC:20240118T183000
DTEND;TZID=UTC:20240118T200000
DTSTAMP:20260424T173328
CREATED:20240111T073320Z
LAST-MODIFIED:20240112T091827Z
UID:8274-1705602600-1705608000@milmadrid.es
SUMMARY:METAVERSE FOR GOOD
DESCRIPTION:La sola idea de entender el Metaverso como una extensión del mundo en el que vivimos\, donde las experiencias físicas y digitales se integran y entrelazan\, exige una participación ciudadana más activa tanto en su concepción como en su desarrollo. \nLa creación de estas nuevas realidades sociales exige incorporar perspectivas multidisciplinares para abordar los retos éticos\, jurídicos\, tecnológicos y medioambientales. Este enfoque integral puede garantizar que la próxima iteración de Internet\, una nueva ola de transformación cultural\, sea FOR GOOD. \nMETAVERSE FOR GOOD presenta al grupo de trabajo que viene desarrollando las estrategias para la construcción ética del mundo phygital.
URL:https://milmadrid.es/event/metaverse-for-good-2/
CATEGORIES:Público General
ATTACH;FMTTYPE=image/jpeg:https://milmadrid.es/wp-content/uploads/2024/01/METAVERSE-FOR-GOOD-3.jpg
END:VEVENT
BEGIN:VEVENT
DTSTART;TZID=UTC:20240117T183000
DTEND;TZID=UTC:20240117T200000
DTSTAMP:20260424T173328
CREATED:20240109T085606Z
LAST-MODIFIED:20240109T095146Z
UID:8263-1705516200-1705521600@milmadrid.es
SUMMARY:Codemotion: Presentación del "State Of European Tech Communities"
DESCRIPTION:En este evento interno\, el equipo de Codemotion\, se reunirá con los organizadores de comunidades tecnológicas en Madrid para discutir su proyecto «STATE OF EU Tech Communities» y crear un grupo de discusión sobre la organziación de estas comunidades. \nEn esta sesión\, se analizarán las tendencias\, innovaciones y desafíos actuales que están dando forma al panorama tecnológico en Europa.
URL:https://milmadrid.es/event/codemotion-presentacion-del-the-state-of-european-tech-communities/
LOCATION:Madrid Innovation Lab\, Calle Bravo Murillo 37-39\, Madrid\, 28080\, España
END:VEVENT
END:VCALENDAR