BEGIN:VCALENDAR
VERSION:2.0
PRODID:-//MIL Madrid - ECPv6.15.20//NONSGML v1.0//EN
CALSCALE:GREGORIAN
METHOD:PUBLISH
X-ORIGINAL-URL:https://milmadrid.es
X-WR-CALDESC:Eventos para MIL Madrid
REFRESH-INTERVAL;VALUE=DURATION:PT1H
X-Robots-Tag:noindex
X-PUBLISHED-TTL:PT1H
BEGIN:VTIMEZONE
TZID:UTC
BEGIN:STANDARD
TZOFFSETFROM:+0000
TZOFFSETTO:+0000
TZNAME:UTC
DTSTART:20230101T000000
END:STANDARD
END:VTIMEZONE
BEGIN:VEVENT
DTSTART;TZID=UTC:20240425T173000
DTEND;TZID=UTC:20240425T190000
DTSTAMP:20260424T160556
CREATED:20240416T050727Z
LAST-MODIFIED:20240422T071020Z
UID:9121-1714066200-1714071600@milmadrid.es
SUMMARY:Deep Tech Talk IA con Patricia Llaque\, Rafael Areses y Javier Ochoa
DESCRIPTION:IA para creadores: diseño\, audiovisual y contenido para redes sociales				\n				\n					\n		\n					\n		\n				\n						\n					\n			\n						\n				\n																														\n				\n					\n		\n					\n		\n				\n						\n					\n			\n						\n				\n									📱  Potencia tus redes sociales con IALa Inteligencia Artificial ha revolucionado la creación de contenido en redes sociales\, permitiendo automatizar\, optimizar y potenciar publicaciones de manera rápida y efectiva. En este evento\, aprenderás a utilizar herramientas de IA para la planificación y producción de contenido audiovisual\, explorando casos prácticos y ejemplos reales de nuestra agencia. Descubre cómo aplicar la IA en texto\, imágenes\, videos\, audio y música para llevar tu estrategia digital al siguiente nivel. 💡 ¿Qué aprenderás?✅ Planificación de contenido con ChatGPT.✅ Generación de imágenes con Freepik y Midjourney.✅ Creación de videos con Pika y Freepik.✅ Audio y voz con Elevenlabs.✅ Música personalizada con Suno. 📅 Fecha: 25 de marzo de 2025 ⏰ Horario: 18:00 – 19:30 h. 📍 Ubicación: Madrid Innovation Lab (MIL). C/ Bravo Murillo 37-39 🎟 ¡Enlace próximamente disponible! 🚀 								\n				\n					\n		\n					\n		\n				\n						\n					\n			\n						\n				\n									\n					\n						\n									¡Quiero apuntarme!
URL:https://milmadrid.es/event/deep-tech-talk-ia/
ATTACH;FMTTYPE=image/png:https://milmadrid.es/wp-content/uploads/2024/04/SLIDE_DTT-IA-2.png
END:VEVENT
BEGIN:VEVENT
DTSTART;TZID=UTC:20240423T183000
DTEND;TZID=UTC:20240423T200000
DTSTAMP:20260424T160556
CREATED:20240415T131735Z
LAST-MODIFIED:20240422T071138Z
UID:9106-1713897000-1713902400@milmadrid.es
SUMMARY:Machine Learning Meetup: The Future of AI Video
DESCRIPTION:IA para creadores: diseño\, audiovisual y contenido para redes sociales				\n				\n					\n		\n					\n		\n				\n						\n					\n			\n						\n				\n																														\n				\n					\n		\n					\n		\n				\n						\n					\n			\n						\n				\n									📱  Potencia tus redes sociales con IALa Inteligencia Artificial ha revolucionado la creación de contenido en redes sociales\, permitiendo automatizar\, optimizar y potenciar publicaciones de manera rápida y efectiva. En este evento\, aprenderás a utilizar herramientas de IA para la planificación y producción de contenido audiovisual\, explorando casos prácticos y ejemplos reales de nuestra agencia. Descubre cómo aplicar la IA en texto\, imágenes\, videos\, audio y música para llevar tu estrategia digital al siguiente nivel. 💡 ¿Qué aprenderás?✅ Planificación de contenido con ChatGPT.✅ Generación de imágenes con Freepik y Midjourney.✅ Creación de videos con Pika y Freepik.✅ Audio y voz con Elevenlabs.✅ Música personalizada con Suno. 📅 Fecha: 25 de marzo de 2025 ⏰ Horario: 18:00 – 19:30 h. 📍 Ubicación: Madrid Innovation Lab (MIL). C/ Bravo Murillo 37-39 🎟 ¡Enlace próximamente disponible! 🚀 								\n				\n					\n		\n					\n		\n				\n						\n					\n			\n						\n				\n									\n					\n						\n									¡Quiero apuntarme!
URL:https://milmadrid.es/event/machine-learning-meetup-the-future-of-ai-video/
ATTACH;FMTTYPE=image/png:https://milmadrid.es/wp-content/uploads/2024/04/MMLM_1804-3.png
END:VEVENT
BEGIN:VEVENT
DTSTART;TZID=UTC:20240417T180000
DTEND;TZID=UTC:20240417T193000
DTSTAMP:20260424T160556
CREATED:20240402T140140Z
LAST-MODIFIED:20240403T124220Z
UID:8967-1713376800-1713382200@milmadrid.es
SUMMARY:Taller 2 IA Generativa en las Finanzas_Rafael Areses
DESCRIPTION:IA para creadores: diseño\, audiovisual y contenido para redes sociales				\n				\n					\n		\n					\n		\n				\n						\n					\n			\n						\n				\n																														\n				\n					\n		\n					\n		\n				\n						\n					\n			\n						\n				\n									📱  Potencia tus redes sociales con IALa Inteligencia Artificial ha revolucionado la creación de contenido en redes sociales\, permitiendo automatizar\, optimizar y potenciar publicaciones de manera rápida y efectiva. En este evento\, aprenderás a utilizar herramientas de IA para la planificación y producción de contenido audiovisual\, explorando casos prácticos y ejemplos reales de nuestra agencia. Descubre cómo aplicar la IA en texto\, imágenes\, videos\, audio y música para llevar tu estrategia digital al siguiente nivel. 💡 ¿Qué aprenderás?✅ Planificación de contenido con ChatGPT.✅ Generación de imágenes con Freepik y Midjourney.✅ Creación de videos con Pika y Freepik.✅ Audio y voz con Elevenlabs.✅ Música personalizada con Suno. 📅 Fecha: 25 de marzo de 2025 ⏰ Horario: 18:00 – 19:30 h. 📍 Ubicación: Madrid Innovation Lab (MIL). C/ Bravo Murillo 37-39 🎟 ¡Enlace próximamente disponible! 🚀 								\n				\n					\n		\n					\n		\n				\n						\n					\n			\n						\n				\n									\n					\n						\n									¡Quiero apuntarme!
URL:https://milmadrid.es/event/taller-2-ia-generativa-rafael-areses/
CATEGORIES:Público Especializado
ATTACH;FMTTYPE=image/png:https://milmadrid.es/wp-content/uploads/2024/04/SLIDE_TALLERESIA_1-1.png
END:VEVENT
BEGIN:VEVENT
DTSTART;TZID=UTC:20240410T120000
DTEND;TZID=UTC:20240410T143000
DTSTAMP:20260424T160556
CREATED:20240402T135322Z
LAST-MODIFIED:20240402T140333Z
UID:8963-1712750400-1712759400@milmadrid.es
SUMMARY:SaaS Growth
DESCRIPTION:IA para creadores: diseño\, audiovisual y contenido para redes sociales				\n				\n					\n		\n					\n		\n				\n						\n					\n			\n						\n				\n																														\n				\n					\n		\n					\n		\n				\n						\n					\n			\n						\n				\n									📱  Potencia tus redes sociales con IALa Inteligencia Artificial ha revolucionado la creación de contenido en redes sociales\, permitiendo automatizar\, optimizar y potenciar publicaciones de manera rápida y efectiva. En este evento\, aprenderás a utilizar herramientas de IA para la planificación y producción de contenido audiovisual\, explorando casos prácticos y ejemplos reales de nuestra agencia. Descubre cómo aplicar la IA en texto\, imágenes\, videos\, audio y música para llevar tu estrategia digital al siguiente nivel. 💡 ¿Qué aprenderás?✅ Planificación de contenido con ChatGPT.✅ Generación de imágenes con Freepik y Midjourney.✅ Creación de videos con Pika y Freepik.✅ Audio y voz con Elevenlabs.✅ Música personalizada con Suno. 📅 Fecha: 25 de marzo de 2025 ⏰ Horario: 18:00 – 19:30 h. 📍 Ubicación: Madrid Innovation Lab (MIL). C/ Bravo Murillo 37-39 🎟 ¡Enlace próximamente disponible! 🚀 								\n				\n					\n		\n					\n		\n				\n						\n					\n			\n						\n				\n									\n					\n						\n									¡Quiero apuntarme!
URL:https://milmadrid.es/event/saas-growth/
CATEGORIES:Público Especializado
ATTACH;FMTTYPE=image/png:https://milmadrid.es/wp-content/uploads/2024/04/BANNER_SG1004.png
END:VEVENT
BEGIN:VEVENT
DTSTART;TZID=UTC:20240222T170000
DTEND;TZID=UTC:20240222T190000
DTSTAMP:20260424T160556
CREATED:20240214T105906Z
LAST-MODIFIED:20240214T105906Z
UID:8333-1708621200-1708628400@milmadrid.es
SUMMARY:Deep Tech Talks - Blockchain
DESCRIPTION:IA para creadores: diseño\, audiovisual y contenido para redes sociales				\n				\n					\n		\n					\n		\n				\n						\n					\n			\n						\n				\n																														\n				\n					\n		\n					\n		\n				\n						\n					\n			\n						\n				\n									📱  Potencia tus redes sociales con IALa Inteligencia Artificial ha revolucionado la creación de contenido en redes sociales\, permitiendo automatizar\, optimizar y potenciar publicaciones de manera rápida y efectiva. En este evento\, aprenderás a utilizar herramientas de IA para la planificación y producción de contenido audiovisual\, explorando casos prácticos y ejemplos reales de nuestra agencia. Descubre cómo aplicar la IA en texto\, imágenes\, videos\, audio y música para llevar tu estrategia digital al siguiente nivel. 💡 ¿Qué aprenderás?✅ Planificación de contenido con ChatGPT.✅ Generación de imágenes con Freepik y Midjourney.✅ Creación de videos con Pika y Freepik.✅ Audio y voz con Elevenlabs.✅ Música personalizada con Suno. 📅 Fecha: 25 de marzo de 2025 ⏰ Horario: 18:00 – 19:30 h. 📍 Ubicación: Madrid Innovation Lab (MIL). C/ Bravo Murillo 37-39 🎟 ¡Enlace próximamente disponible! 🚀 								\n				\n					\n		\n					\n		\n				\n						\n					\n			\n						\n				\n									\n					\n						\n									¡Quiero apuntarme!
URL:https://milmadrid.es/event/deep-tech-talks-blockchain-2/
CATEGORIES:Público Especializado
ATTACH;FMTTYPE=image/png:https://milmadrid.es/wp-content/uploads/2024/02/SLIDE_DTT-Blockchain-II-4.png
END:VEVENT
BEGIN:VEVENT
DTSTART;TZID=UTC:20240221T110000
DTEND;TZID=UTC:20240221T130000
DTSTAMP:20260424T160556
CREATED:20240214T085806Z
LAST-MODIFIED:20240214T085806Z
UID:8329-1708513200-1708520400@milmadrid.es
SUMMARY:Premios IA & TA 2023
DESCRIPTION:IA para creadores: diseño\, audiovisual y contenido para redes sociales				\n				\n					\n		\n					\n		\n				\n						\n					\n			\n						\n				\n																														\n				\n					\n		\n					\n		\n				\n						\n					\n			\n						\n				\n									📱  Potencia tus redes sociales con IALa Inteligencia Artificial ha revolucionado la creación de contenido en redes sociales\, permitiendo automatizar\, optimizar y potenciar publicaciones de manera rápida y efectiva. En este evento\, aprenderás a utilizar herramientas de IA para la planificación y producción de contenido audiovisual\, explorando casos prácticos y ejemplos reales de nuestra agencia. Descubre cómo aplicar la IA en texto\, imágenes\, videos\, audio y música para llevar tu estrategia digital al siguiente nivel. 💡 ¿Qué aprenderás?✅ Planificación de contenido con ChatGPT.✅ Generación de imágenes con Freepik y Midjourney.✅ Creación de videos con Pika y Freepik.✅ Audio y voz con Elevenlabs.✅ Música personalizada con Suno. 📅 Fecha: 25 de marzo de 2025 ⏰ Horario: 18:00 – 19:30 h. 📍 Ubicación: Madrid Innovation Lab (MIL). C/ Bravo Murillo 37-39 🎟 ¡Enlace próximamente disponible! 🚀 								\n				\n					\n		\n					\n		\n				\n						\n					\n			\n						\n				\n									\n					\n						\n									¡Quiero apuntarme!
URL:https://milmadrid.es/event/premios-ia-ta-2023/
CATEGORIES:Público Especializado
ATTACH;FMTTYPE=image/png:https://milmadrid.es/wp-content/uploads/2024/02/Diseno-sin-titulo-7.png
END:VEVENT
BEGIN:VEVENT
DTSTART;TZID=UTC:20240214T170000
DTEND;TZID=UTC:20240214T190000
DTSTAMP:20260424T160556
CREATED:20240214T081901Z
LAST-MODIFIED:20240214T081901Z
UID:8326-1707930000-1707937200@milmadrid.es
SUMMARY:Empower Talent: "Blockchain y Smart Contracts: cómo utilizar Blockchain para crear nuestros propios tokens"
DESCRIPTION:IA para creadores: diseño\, audiovisual y contenido para redes sociales				\n				\n					\n		\n					\n		\n				\n						\n					\n			\n						\n				\n																														\n				\n					\n		\n					\n		\n				\n						\n					\n			\n						\n				\n									📱  Potencia tus redes sociales con IALa Inteligencia Artificial ha revolucionado la creación de contenido en redes sociales\, permitiendo automatizar\, optimizar y potenciar publicaciones de manera rápida y efectiva. En este evento\, aprenderás a utilizar herramientas de IA para la planificación y producción de contenido audiovisual\, explorando casos prácticos y ejemplos reales de nuestra agencia. Descubre cómo aplicar la IA en texto\, imágenes\, videos\, audio y música para llevar tu estrategia digital al siguiente nivel. 💡 ¿Qué aprenderás?✅ Planificación de contenido con ChatGPT.✅ Generación de imágenes con Freepik y Midjourney.✅ Creación de videos con Pika y Freepik.✅ Audio y voz con Elevenlabs.✅ Música personalizada con Suno. 📅 Fecha: 25 de marzo de 2025 ⏰ Horario: 18:00 – 19:30 h. 📍 Ubicación: Madrid Innovation Lab (MIL). C/ Bravo Murillo 37-39 🎟 ¡Enlace próximamente disponible! 🚀 								\n				\n					\n		\n					\n		\n				\n						\n					\n			\n						\n				\n									\n					\n						\n									¡Quiero apuntarme!
URL:https://milmadrid.es/event/empower-talent-blockchain-y-smart-contracts-como-utilizar-blockchain-para-crear-nuestros-propios-tokens/
CATEGORIES:Público Especializado
ATTACH;FMTTYPE=image/png:https://milmadrid.es/wp-content/uploads/2024/02/1706869023049.png
END:VEVENT
BEGIN:VEVENT
DTSTART;TZID=UTC:20240213T120000
DTEND;TZID=UTC:20240213T140000
DTSTAMP:20260424T160556
CREATED:20240214T081044Z
LAST-MODIFIED:20240214T081044Z
UID:8323-1707825600-1707832800@milmadrid.es
SUMMARY:Lanzamiento PTIC: El primer clúster internacional ProcureTech Innovation
DESCRIPTION:IA para creadores: diseño\, audiovisual y contenido para redes sociales				\n				\n					\n		\n					\n		\n				\n						\n					\n			\n						\n				\n																														\n				\n					\n		\n					\n		\n				\n						\n					\n			\n						\n				\n									📱  Potencia tus redes sociales con IALa Inteligencia Artificial ha revolucionado la creación de contenido en redes sociales\, permitiendo automatizar\, optimizar y potenciar publicaciones de manera rápida y efectiva. En este evento\, aprenderás a utilizar herramientas de IA para la planificación y producción de contenido audiovisual\, explorando casos prácticos y ejemplos reales de nuestra agencia. Descubre cómo aplicar la IA en texto\, imágenes\, videos\, audio y música para llevar tu estrategia digital al siguiente nivel. 💡 ¿Qué aprenderás?✅ Planificación de contenido con ChatGPT.✅ Generación de imágenes con Freepik y Midjourney.✅ Creación de videos con Pika y Freepik.✅ Audio y voz con Elevenlabs.✅ Música personalizada con Suno. 📅 Fecha: 25 de marzo de 2025 ⏰ Horario: 18:00 – 19:30 h. 📍 Ubicación: Madrid Innovation Lab (MIL). C/ Bravo Murillo 37-39 🎟 ¡Enlace próximamente disponible! 🚀 								\n				\n					\n		\n					\n		\n				\n						\n					\n			\n						\n				\n									\n					\n						\n									¡Quiero apuntarme!
URL:https://milmadrid.es/event/lanzamiento-ptic-el-primer-cluster-internacional-procuretech-innovation/
CATEGORIES:Público General
ATTACH;FMTTYPE=image/png:https://milmadrid.es/wp-content/uploads/2024/02/PTIC-SLIDE-1.png
END:VEVENT
BEGIN:VEVENT
DTSTART;TZID=UTC:20240212T113000
DTEND;TZID=UTC:20240212T130000
DTSTAMP:20260424T160556
CREATED:20240123T084201Z
LAST-MODIFIED:20240123T084201Z
UID:8315-1707737400-1707742800@milmadrid.es
SUMMARY:Programa APPtitud
DESCRIPTION:IA para creadores: diseño\, audiovisual y contenido para redes sociales				\n				\n					\n		\n					\n		\n				\n						\n					\n			\n						\n				\n																														\n				\n					\n		\n					\n		\n				\n						\n					\n			\n						\n				\n									📱  Potencia tus redes sociales con IALa Inteligencia Artificial ha revolucionado la creación de contenido en redes sociales\, permitiendo automatizar\, optimizar y potenciar publicaciones de manera rápida y efectiva. En este evento\, aprenderás a utilizar herramientas de IA para la planificación y producción de contenido audiovisual\, explorando casos prácticos y ejemplos reales de nuestra agencia. Descubre cómo aplicar la IA en texto\, imágenes\, videos\, audio y música para llevar tu estrategia digital al siguiente nivel. 💡 ¿Qué aprenderás?✅ Planificación de contenido con ChatGPT.✅ Generación de imágenes con Freepik y Midjourney.✅ Creación de videos con Pika y Freepik.✅ Audio y voz con Elevenlabs.✅ Música personalizada con Suno. 📅 Fecha: 25 de marzo de 2025 ⏰ Horario: 18:00 – 19:30 h. 📍 Ubicación: Madrid Innovation Lab (MIL). C/ Bravo Murillo 37-39 🎟 ¡Enlace próximamente disponible! 🚀 								\n				\n					\n		\n					\n		\n				\n						\n					\n			\n						\n				\n									\n					\n						\n									¡Quiero apuntarme!
URL:https://milmadrid.es/event/programa-apptitud-29/
ATTACH;FMTTYPE=image/jpeg:https://milmadrid.es/wp-content/uploads/2024/01/PROGRAMA-APPTITUD-2.jpg
END:VEVENT
BEGIN:VEVENT
DTSTART;TZID=UTC:20240207T100000
DTEND;TZID=UTC:20240207T120000
DTSTAMP:20260424T160556
CREATED:20240126T095323Z
LAST-MODIFIED:20240130T085931Z
UID:8319-1707300000-1707307200@milmadrid.es
SUMMARY:DEMO DAY POiN
DESCRIPTION:IA para creadores: diseño\, audiovisual y contenido para redes sociales				\n				\n					\n		\n					\n		\n				\n						\n					\n			\n						\n				\n																														\n				\n					\n		\n					\n		\n				\n						\n					\n			\n						\n				\n									📱  Potencia tus redes sociales con IALa Inteligencia Artificial ha revolucionado la creación de contenido en redes sociales\, permitiendo automatizar\, optimizar y potenciar publicaciones de manera rápida y efectiva. En este evento\, aprenderás a utilizar herramientas de IA para la planificación y producción de contenido audiovisual\, explorando casos prácticos y ejemplos reales de nuestra agencia. Descubre cómo aplicar la IA en texto\, imágenes\, videos\, audio y música para llevar tu estrategia digital al siguiente nivel. 💡 ¿Qué aprenderás?✅ Planificación de contenido con ChatGPT.✅ Generación de imágenes con Freepik y Midjourney.✅ Creación de videos con Pika y Freepik.✅ Audio y voz con Elevenlabs.✅ Música personalizada con Suno. 📅 Fecha: 25 de marzo de 2025 ⏰ Horario: 18:00 – 19:30 h. 📍 Ubicación: Madrid Innovation Lab (MIL). C/ Bravo Murillo 37-39 🎟 ¡Enlace próximamente disponible! 🚀 								\n				\n					\n		\n					\n		\n				\n						\n					\n			\n						\n				\n									\n					\n						\n									¡Quiero apuntarme!
URL:https://milmadrid.es/event/demo-day-poin/
LOCATION:Madrid Innovation Lab\, Calle Bravo Murillo 37-39\, Madrid\, 28080\, España
CATEGORIES:Casos de uso
ATTACH;FMTTYPE=image/jpeg:https://milmadrid.es/wp-content/uploads/2024/01/SLIDE_CDU_POIN-5.jpg
END:VEVENT
BEGIN:VEVENT
DTSTART;TZID=UTC:20240130T183000
DTEND;TZID=UTC:20240130T200000
DTSTAMP:20260424T160556
CREATED:20240111T072847Z
LAST-MODIFIED:20240130T085639Z
UID:8271-1706639400-1706644800@milmadrid.es
SUMMARY:Madrid Machine Learning Meetup: Gaussian Splatting
DESCRIPTION:IA para creadores: diseño\, audiovisual y contenido para redes sociales				\n				\n					\n		\n					\n		\n				\n						\n					\n			\n						\n				\n																														\n				\n					\n		\n					\n		\n				\n						\n					\n			\n						\n				\n									📱  Potencia tus redes sociales con IALa Inteligencia Artificial ha revolucionado la creación de contenido en redes sociales\, permitiendo automatizar\, optimizar y potenciar publicaciones de manera rápida y efectiva. En este evento\, aprenderás a utilizar herramientas de IA para la planificación y producción de contenido audiovisual\, explorando casos prácticos y ejemplos reales de nuestra agencia. Descubre cómo aplicar la IA en texto\, imágenes\, videos\, audio y música para llevar tu estrategia digital al siguiente nivel. 💡 ¿Qué aprenderás?✅ Planificación de contenido con ChatGPT.✅ Generación de imágenes con Freepik y Midjourney.✅ Creación de videos con Pika y Freepik.✅ Audio y voz con Elevenlabs.✅ Música personalizada con Suno. 📅 Fecha: 25 de marzo de 2025 ⏰ Horario: 18:00 – 19:30 h. 📍 Ubicación: Madrid Innovation Lab (MIL). C/ Bravo Murillo 37-39 🎟 ¡Enlace próximamente disponible! 🚀 								\n				\n					\n		\n					\n		\n				\n						\n					\n			\n						\n				\n									\n					\n						\n									¡Quiero apuntarme!
URL:https://milmadrid.es/event/madrid-machine-learning-meetup-gaussian-splatting/
CATEGORIES:Público Especializado
ATTACH;FMTTYPE=image/jpeg:https://milmadrid.es/wp-content/uploads/2024/01/MADRID-MACHINE-LEARNING-MEETUP-2.jpg
END:VEVENT
BEGIN:VEVENT
DTSTART;TZID=UTC:20240129T113000
DTEND;TZID=UTC:20240129T130000
DTSTAMP:20260424T160556
CREATED:20240123T084000Z
LAST-MODIFIED:20240123T084000Z
UID:8312-1706527800-1706533200@milmadrid.es
SUMMARY:Programa APPtitud
DESCRIPTION:IA para creadores: diseño\, audiovisual y contenido para redes sociales				\n				\n					\n		\n					\n		\n				\n						\n					\n			\n						\n				\n																														\n				\n					\n		\n					\n		\n				\n						\n					\n			\n						\n				\n									📱  Potencia tus redes sociales con IALa Inteligencia Artificial ha revolucionado la creación de contenido en redes sociales\, permitiendo automatizar\, optimizar y potenciar publicaciones de manera rápida y efectiva. En este evento\, aprenderás a utilizar herramientas de IA para la planificación y producción de contenido audiovisual\, explorando casos prácticos y ejemplos reales de nuestra agencia. Descubre cómo aplicar la IA en texto\, imágenes\, videos\, audio y música para llevar tu estrategia digital al siguiente nivel. 💡 ¿Qué aprenderás?✅ Planificación de contenido con ChatGPT.✅ Generación de imágenes con Freepik y Midjourney.✅ Creación de videos con Pika y Freepik.✅ Audio y voz con Elevenlabs.✅ Música personalizada con Suno. 📅 Fecha: 25 de marzo de 2025 ⏰ Horario: 18:00 – 19:30 h. 📍 Ubicación: Madrid Innovation Lab (MIL). C/ Bravo Murillo 37-39 🎟 ¡Enlace próximamente disponible! 🚀 								\n				\n					\n		\n					\n		\n				\n						\n					\n			\n						\n				\n									\n					\n						\n									¡Quiero apuntarme!
URL:https://milmadrid.es/event/programa-apptitud-28/
CATEGORIES:Público General
ATTACH;FMTTYPE=image/jpeg:https://milmadrid.es/wp-content/uploads/2024/01/PROGRAMA-APPTITUD-2.jpg
END:VEVENT
BEGIN:VEVENT
DTSTART;TZID=UTC:20240125T170000
DTEND;TZID=UTC:20240125T193000
DTSTAMP:20260424T160556
CREATED:20240112T124518Z
LAST-MODIFIED:20240112T124518Z
UID:8280-1706202000-1706211000@milmadrid.es
SUMMARY:Deep tech talks - Blockchain
DESCRIPTION:IA para creadores: diseño\, audiovisual y contenido para redes sociales				\n				\n					\n		\n					\n		\n				\n						\n					\n			\n						\n				\n																														\n				\n					\n		\n					\n		\n				\n						\n					\n			\n						\n				\n									📱  Potencia tus redes sociales con IALa Inteligencia Artificial ha revolucionado la creación de contenido en redes sociales\, permitiendo automatizar\, optimizar y potenciar publicaciones de manera rápida y efectiva. En este evento\, aprenderás a utilizar herramientas de IA para la planificación y producción de contenido audiovisual\, explorando casos prácticos y ejemplos reales de nuestra agencia. Descubre cómo aplicar la IA en texto\, imágenes\, videos\, audio y música para llevar tu estrategia digital al siguiente nivel. 💡 ¿Qué aprenderás?✅ Planificación de contenido con ChatGPT.✅ Generación de imágenes con Freepik y Midjourney.✅ Creación de videos con Pika y Freepik.✅ Audio y voz con Elevenlabs.✅ Música personalizada con Suno. 📅 Fecha: 25 de marzo de 2025 ⏰ Horario: 18:00 – 19:30 h. 📍 Ubicación: Madrid Innovation Lab (MIL). C/ Bravo Murillo 37-39 🎟 ¡Enlace próximamente disponible! 🚀 								\n				\n					\n		\n					\n		\n				\n						\n					\n			\n						\n				\n									\n					\n						\n									¡Quiero apuntarme!
URL:https://milmadrid.es/event/deep-tech-talks-blockchain/
CATEGORIES:Público Especializado
ATTACH;FMTTYPE=image/jpeg:https://milmadrid.es/wp-content/uploads/2024/01/BLOCKCHAIN-CREATIVIDAD-9.jpg
END:VEVENT
BEGIN:VEVENT
DTSTART;TZID=UTC:20240124T100000
DTEND;TZID=UTC:20240124T120000
DTSTAMP:20260424T160556
CREATED:20240117T090127Z
LAST-MODIFIED:20240118T084720Z
UID:8290-1706090400-1706097600@milmadrid.es
SUMMARY:GreemKo DEMO DAY
DESCRIPTION:IA para creadores: diseño\, audiovisual y contenido para redes sociales				\n				\n					\n		\n					\n		\n				\n						\n					\n			\n						\n				\n																														\n				\n					\n		\n					\n		\n				\n						\n					\n			\n						\n				\n									📱  Potencia tus redes sociales con IALa Inteligencia Artificial ha revolucionado la creación de contenido en redes sociales\, permitiendo automatizar\, optimizar y potenciar publicaciones de manera rápida y efectiva. En este evento\, aprenderás a utilizar herramientas de IA para la planificación y producción de contenido audiovisual\, explorando casos prácticos y ejemplos reales de nuestra agencia. Descubre cómo aplicar la IA en texto\, imágenes\, videos\, audio y música para llevar tu estrategia digital al siguiente nivel. 💡 ¿Qué aprenderás?✅ Planificación de contenido con ChatGPT.✅ Generación de imágenes con Freepik y Midjourney.✅ Creación de videos con Pika y Freepik.✅ Audio y voz con Elevenlabs.✅ Música personalizada con Suno. 📅 Fecha: 25 de marzo de 2025 ⏰ Horario: 18:00 – 19:30 h. 📍 Ubicación: Madrid Innovation Lab (MIL). C/ Bravo Murillo 37-39 🎟 ¡Enlace próximamente disponible! 🚀 								\n				\n					\n		\n					\n		\n				\n						\n					\n			\n						\n				\n									\n					\n						\n									¡Quiero apuntarme!
URL:https://milmadrid.es/event/greemko-demo-day/
CATEGORIES:Casos de uso
ATTACH;FMTTYPE=image/jpeg:https://milmadrid.es/wp-content/uploads/2024/01/SLIDE_CDU_GreeMKo_-1.jpg
END:VEVENT
BEGIN:VEVENT
DTSTART;TZID=UTC:20240118T183000
DTEND;TZID=UTC:20240118T200000
DTSTAMP:20260424T160556
CREATED:20240111T073320Z
LAST-MODIFIED:20240112T091827Z
UID:8274-1705602600-1705608000@milmadrid.es
SUMMARY:METAVERSE FOR GOOD
DESCRIPTION:IA para creadores: diseño\, audiovisual y contenido para redes sociales				\n				\n					\n		\n					\n		\n				\n						\n					\n			\n						\n				\n																														\n				\n					\n		\n					\n		\n				\n						\n					\n			\n						\n				\n									📱  Potencia tus redes sociales con IALa Inteligencia Artificial ha revolucionado la creación de contenido en redes sociales\, permitiendo automatizar\, optimizar y potenciar publicaciones de manera rápida y efectiva. En este evento\, aprenderás a utilizar herramientas de IA para la planificación y producción de contenido audiovisual\, explorando casos prácticos y ejemplos reales de nuestra agencia. Descubre cómo aplicar la IA en texto\, imágenes\, videos\, audio y música para llevar tu estrategia digital al siguiente nivel. 💡 ¿Qué aprenderás?✅ Planificación de contenido con ChatGPT.✅ Generación de imágenes con Freepik y Midjourney.✅ Creación de videos con Pika y Freepik.✅ Audio y voz con Elevenlabs.✅ Música personalizada con Suno. 📅 Fecha: 25 de marzo de 2025 ⏰ Horario: 18:00 – 19:30 h. 📍 Ubicación: Madrid Innovation Lab (MIL). C/ Bravo Murillo 37-39 🎟 ¡Enlace próximamente disponible! 🚀 								\n				\n					\n		\n					\n		\n				\n						\n					\n			\n						\n				\n									\n					\n						\n									¡Quiero apuntarme!
URL:https://milmadrid.es/event/metaverse-for-good-2/
CATEGORIES:Público General
ATTACH;FMTTYPE=image/jpeg:https://milmadrid.es/wp-content/uploads/2024/01/METAVERSE-FOR-GOOD-3.jpg
END:VEVENT
BEGIN:VEVENT
DTSTART;TZID=UTC:20240117T183000
DTEND;TZID=UTC:20240117T200000
DTSTAMP:20260424T160556
CREATED:20240109T085606Z
LAST-MODIFIED:20240109T095146Z
UID:8263-1705516200-1705521600@milmadrid.es
SUMMARY:Codemotion: Presentación del "State Of European Tech Communities"
DESCRIPTION:IA para creadores: diseño\, audiovisual y contenido para redes sociales				\n				\n					\n		\n					\n		\n				\n						\n					\n			\n						\n				\n																														\n				\n					\n		\n					\n		\n				\n						\n					\n			\n						\n				\n									📱  Potencia tus redes sociales con IALa Inteligencia Artificial ha revolucionado la creación de contenido en redes sociales\, permitiendo automatizar\, optimizar y potenciar publicaciones de manera rápida y efectiva. En este evento\, aprenderás a utilizar herramientas de IA para la planificación y producción de contenido audiovisual\, explorando casos prácticos y ejemplos reales de nuestra agencia. Descubre cómo aplicar la IA en texto\, imágenes\, videos\, audio y música para llevar tu estrategia digital al siguiente nivel. 💡 ¿Qué aprenderás?✅ Planificación de contenido con ChatGPT.✅ Generación de imágenes con Freepik y Midjourney.✅ Creación de videos con Pika y Freepik.✅ Audio y voz con Elevenlabs.✅ Música personalizada con Suno. 📅 Fecha: 25 de marzo de 2025 ⏰ Horario: 18:00 – 19:30 h. 📍 Ubicación: Madrid Innovation Lab (MIL). C/ Bravo Murillo 37-39 🎟 ¡Enlace próximamente disponible! 🚀 								\n				\n					\n		\n					\n		\n				\n						\n					\n			\n						\n				\n									\n					\n						\n									¡Quiero apuntarme!
URL:https://milmadrid.es/event/codemotion-presentacion-del-the-state-of-european-tech-communities/
LOCATION:Madrid Innovation Lab\, Calle Bravo Murillo 37-39\, Madrid\, 28080\, España
END:VEVENT
END:VCALENDAR